BEGIN:VCALENDAR
VERSION:2.0
PRODID:-//wp-events-plugin.com//7.2.3//EN
TZID:Europe/Ljubljana
X-WR-TIMEZONE:Europe/Ljubljana
BEGIN:VEVENT
UID:12@sloventa.si
DTSTART;TZID=Europe/Ljubljana;VALUE=DATE:20240202
DTEND;TZID=Europe/Ljubljana;VALUE=DATE:20240204
DTSTAMP:20250318T120857Z
URL:https://www.sloventa.si/dogodki/10-strokovno-srecanje-slovente-ta-in-t
 elo/
SUMMARY:10. Strokovno srečanje Slovente: »TA IN TELO«
DESCRIPTION:\n\n\n\n\n\n\nSpoštovani.\n\n&nbsp\;\n\nVabimo vas na 10. Stro
 kovno srečanje Slovente\nz naslovom:\nVLOGA IN POMEN TELESA V PSIHOTERAPI
 JI\n»TA IN TELO«\n\nSrečanje bo potekalo od 2. do 3. februarja 2024\,\n
 v M hotelu\, v Ljubljani.\n\n&nbsp\;\n\nPotencial različnih\, na telo us
 merjenih pristopov\, je vse bolj prepoznan v različnih psihoterapevtskih 
 modalitetah\, kakor tudi v Transakcijski analizi. Nenazadnje je telo zmož
 no naravne samoregulacije in zdravljenja\, če mu omogočimo\, da sprosti 
 ujeto fizično in čustveno energijo. Delo s telesom lahko posameznika vod
 i v globlje raziskovanje svojega doživljanja in celo v preobrazbo travmat
 ske izkušnje.\n\nPrav zato je pomembno\, da na tem področju ozaveščamo
  tveganja in pomembnost etičnega delovanja\, ki omogoča vzpostavitev var
 nega in podpornega okolja za tovrstno delo.\n\nDruštvo Sloventa združuje
  štiri področja transakcijske analize: psihoterapevtsko\, organizacijsko
 \, svetovalno in edukacijsko. Raziskovali bomo kako vsako od štirih podro
 čij integrira delo s telesom.\n\nDelo s telesom v psihoterapiji\, svetova
 nju\, edukaciji in organizaciji je neizbežno izkustvene narave. Zaradi te
 ga želimo na Strokovnem srečanju 2024 ponuditi več delavnic in izkustve
 nega dela.\n\nProgram srečanja\n\nKOTIZACIJA\nČlan_ica Društva Sloventa
  (zgodnja prijava do 31. 12. 2023) - 120 EUR\nČlan_ica Društva Sloventa 
 (po 31. 12. 2023) - 150 EUR\n\nNečlan_ica Društva Sloventa (zgodnja prij
 ava do 31. 12. 2023) - 140 EUR\nNečlan_ica Društva Sloventa (po 31. 12. 
 2023) - 170 EUR\n\nEnodnevna kotizacija:\n\n- Član_ica društva Sloventa\
 , 90 EUR\n- Nečlan_ica 100 EUR\n\nPRIJAVA\nNa seminar se prijavite tako\,
  da:\n\n- Izpolnite spletno prijavnico\n\nPrijava je potrjena s plačilom
  kotizacije.\nJavni zavodi lahko svoje zaposlene prijavijo z naročilnico.
 \n\nPODATKI ZA NAKAZILO KOTIZACIJE\nDruštvo Sloventa\nBratovševa plošč
 ad 2\, 1000 Ljubljana\nSI56 0201 0009 2460 657\, pri NLB\nKoda namena: OTH
 R\nNamen: vpišete IME PRIIMEK – SS24\nSklic: SI 00 2024\n\nRačun o pla
 čani kotizaciji vam bomo posredovali po prejetem plačilu.\n\nINFORMACIJE
  V PRIMERU ODPOVEDI\nOdjava je možna v pisni obliki po elektronski pošti
  na elektronski naslov\, seminarji@sloventa.si.\nZadnji rok za odjavo s 1
 00% vračilom plačila je do sedem (7) dni pred začetkom Strokovnega sre
 čanja.\nPri odjavah prejetih dva (2) ali en (1) delovni dan pred Strokovn
 im srečanjem se zaračunajo administrativni stroški v višini 15% kotiza
 cije.\nPri kasnejši odjavi ali v primeru\, da odjava ni bila pisno posred
 ovana\, se kotizacija zaračuna v celoti.\n\nOdjava ni možna\, če je ude
 leženec ob prijavi izrecno zahteval plačilo po Strokovnem srečanju. V 
 takem primeru se udeležencu ob neudeležbi iz kakršnega koli razloga zar
 ačuna celotna kotizacija.\n\nNe glede na zgornje določbe bo Sloventa sku
 šala reševati odpovedi prijav v korist prijavljenega udeleženca. Prijav
 a je v tem primeru prenosljiva tudi na drugo osebo.\n\nZa morebitna dodatn
 a vprašanja\, nam pišite na elektronski naslov: seminarji@sloventa.si.\
 n\n\n\n\n\n\n
ATTACH;FMTTYPE=image/jpeg:https://www.sloventa.si/wp-content/uploads/2023/
 12/SS2024_banner_.jpeg
CATEGORIES:Strokovna srečanja
END:VEVENT
BEGIN:VTIMEZONE
TZID:Europe/Ljubljana
X-LIC-LOCATION:Europe/Ljubljana
BEGIN:STANDARD
DTSTART:20231029T020000
TZOFFSETFROM:+0200
TZOFFSETTO:+0100
TZNAME:CET
END:STANDARD
END:VTIMEZONE
END:VCALENDAR