BEGIN:VCALENDAR
VERSION:2.0
PRODID:-//wp-events-plugin.com//7.2.3//EN
TZID:Europe/Ljubljana
X-WR-TIMEZONE:Europe/Ljubljana
BEGIN:VEVENT
UID:22@sloventa.si
DTSTART;TZID=Europe/Ljubljana:20260130T090000
DTEND;TZID=Europe/Ljubljana:20260131T173000
DTSTAMP:20251221T155147Z
URL:https://www.sloventa.si/dogodki/12-strokovno-srecanje-raziskovanje-int
 imnosti/
SUMMARY:12. Strokovno srečanje. "Raziskovanje intimnosti."
DESCRIPTION:Spoštovani\,\n\nVabimo vas na 12. Strokovno srečanje društva
  za Transakcijsko analizo Slovenije Sloventa z naslovom RAZISKOVANJE INTIM
 NOSTI\, na katerem se bomo skozi principe transakcijske analize ukvarjali 
 z globinami in dinamiko pristne človeške povezanosti.\n\nStrokovno sreč
 anje bo potekalo v petek\, 30. in v soboto\, 31. januarja 2026 v M Hotelu 
 v Ljubljani.\n\n&nbsp\;\n\nIntimnost je v transakcijski analizi (TA) opred
 eljena kot globoka\, pristna povezava med posamezniki\, za katero so znač
 ilni odprtost\, iskrenost in odsotnost prikritih namenov. Intimnost je bis
 tven vidik psihološkega blagostanja\, ki spodbuja rast\, zaupanje in čus
 tveno varnost v odnosih. Intimnost je tudi ena izmed komponent avtonomije\
 , ki jo je Eric Berne opredelil kot cilj transakcijske analize.\n\nNa sre
 čanju bomo raziskali različne dimenzije intimnosti\, vključno z njenimi
  psihološkimi temelji\, praktičnimi aplikacijami in izzivi v različnih 
 okoljih.\n\nTransakcijska analiza ponuja bogat okvir za razumevanje člove
 ške interakcije\, pri čemer ima intimnost ključno vlogo tako v osebnih 
 kot tudi v poklicnih odnosih. Raziskovali bomo\, kako posamezniki iščemo
 \, ustvarjamo ali se izogibamo intimnosti v vsakdanjem življenju.\n\nInti
 mnost v strukturiranju časa je ključen koncept v TA\, saj nam razkriva\,
  kako si ljudje organiziramo svoj čas za vzpostavljanje odnosov. Od umika
  do intimnosti – vsaka struktura ponuja vpogled v način\, kako posamezn
 iki krmarimo skozi povezovanje in bližino. Z analizo teh vzorcev lahko bo
 lje razumemo\, kako ljudje zavedno in nezavedno razvijamo in/ali omejujemo
  intimnost.\n\n&nbsp\;\n\nStrokovno srečanje bodo tokrat ustvarjali z nam
 i:\n\nSari van Poelje (TSTA-O)\nMaja Pavlov (TSTA-P)\nPolonca Majcenovič 
 (mag. zakonske in družinske terapije)\nBarbara Prassel (IIPA)\nTanja Kris
 t (PTSTA-P)\nZala Razpotnik (psihodinamska psihoterapevtka)\nTim Prezelj (
 mag. mol. funkc. biol.)\nMarjana Škarja Mamić (specializantka TA-E)\nNim
 s Dhawan (PTSTA-O)\nMatej Vajda (sistemski psihoterapevt)\nAnna Zuykova (s
 pecializantka TA-P)\nNives Košir Maček (specializantka TA-P)\nMaja Sedma
 k Cvelbar (PTSTA-P)\n\n&nbsp\;\n\nProgram Strokovnega srečanja 2026\n\nRa
 zširjen program Strokovnega srečanja 2026\n\n&nbsp\;\n\nV petek vas po 
 zaključenem strokovnem delu vabimo\, da se skupaj podružimo ob večerji 
 v bližnji Štalci pri Vodniku. Še za malo praktičnega občutka intimnos
 ti in povezanosti.\n\n&nbsp\;\n\nKOTIZACIJA\n\nČlani_ce društva Sloventa
 : 220 EUR (zgodnja prijava do 30. 12. 2025: 180 EUR)\n\nOstali: 240 EUR (z
 godnja prijava do 30. 12. 2025: 200 EUR)\n\nEnodnevna kotizacija:\n\n– 
 Člani_ce društva Sloventa: 130 EUR\n\n– Ostali: 150 EUR\n\nVečerja v 
 Vodnikovem hramu: 25 EUR\n\n \n\nPRIJAVA\n\nNa strokovno srečanje se pri
 javite tako\, da:\n\n– Izpolnite spletno prijavnico\n\nPrijava je potrj
 ena s plačilom kotizacije ali z naročilnico v primeru\, da je plačnik j
 avni zavod.\n\n&nbsp\;\n\nPODATKI ZA NAKAZILO KOTIZACIJE\n\nDruštvo Slove
 nta\nBratovševa ploščad 2\, 1000 Ljubljana\nSI56 0201 0009 2460 657 pri
  NLB\nKoda namena: OTHR\nNamen: vpišete IME in PRIIMEK – SS26\nSklic: S
 I 00 2026\n\nRačun o plačani kotizaciji vam bomo posredovali po prejetem
  plačilu.\n\n&nbsp\;\n\nINFORMACIJE V PRIMERU ODPOVEDI\n\nOdjava je možn
 a v pisni obliki po elektronski pošti na elektronski naslov: seminarji@sl
 oventa.si.\nZadnji rok za odjavo s 100% vračilom plačila je do tri (3) d
 elovne dni pred začetkom Strokovnega srečanja.\nPri odjavah prejetih dva
  (2) ali en (1) delovni dan pred Strokovnim srečanjem se zaračunajo admi
 nistrativni stroški v višini 15% kotizacije.\nPri kasnejši odjavi ali v
  primeru\, da odjava ni bila pisno posredovana\, se kotizacija zaračuna v
  celoti.\n\nOdjava ni možna\, če je udeleženec ob prijavi izrecno zahte
 val plačilo po Strokovnem srečanju.\nV takem primeru se udeležencu ob n
 eudeležbi zaračuna celotna kotizacija\, ne glede na razlog odpovedi.\n\n
 V Društvu Sloventa si prizadevamo reševati odpovedi v korist prijavljene
 ga udeleženca\, zato je možno prijavo prenesti tudi na drugo osebo.\n\nZ
 a morebitna dodatna vprašanja nam pišite na elektronski naslov: seminar
 ji@sloventa.si.
ATTACH;FMTTYPE=image/jpeg:https://www.sloventa.si/wp-content/uploads/2025/
 11/SS26.jpg
CATEGORIES:Strokovna srečanja
END:VEVENT
BEGIN:VTIMEZONE
TZID:Europe/Ljubljana
X-LIC-LOCATION:Europe/Ljubljana
BEGIN:STANDARD
DTSTART:20251026T020000
TZOFFSETFROM:+0200
TZOFFSETTO:+0100
TZNAME:CET
END:STANDARD
END:VTIMEZONE
END:VCALENDAR