BEGIN:VCALENDAR
VERSION:2.0
PRODID:-//wp-events-plugin.com//7.2.3//EN
TZID:Europe/Ljubljana
X-WR-TIMEZONE:Europe/Ljubljana
BEGIN:VEVENT
UID:9@sloventa.si
DTSTART;TZID=Europe/Ljubljana;VALUE=DATE:20230421
DTEND;TZID=Europe/Ljubljana;VALUE=DATE:20230423
DTSTAMP:20250317T101401Z
URL:https://www.sloventa.si/dogodki/9-strokovno-srecanje-zgodbe-nasih-pred
 nikov-od-omejujocih-do-zdravilnih-vplivov/
SUMMARY:9. Strokovno srečanje: “Zgodbe naših prednikov: od omejujočih 
 do zdravilnih vplivov”
DESCRIPTION:Spoštovani\,\n\n\n\nzagotovite si svoje mesto na 9. Strokovne
 m srečanju društva za Transakcijsko analizo Slovenije - Sloventa.\n\n\
 n\n“ZGODBE NAŠIH PREDNIKOV: OD OMEJUJOČIH DO ZDRAVILNIH VPLIVOV"\n\n\n
 \nStrokovno srečanje bo potekalo v Mestnem muzeju Ljubljana\,\nV petek\
 , 21. 4. 2023 in soboto\, 22. 4. 2023.\n\n\n\nNa strokovnem srečanju žel
 imo spodbuditi zavedanje kako so-vplivamo na vrednote\, predsodke in tudi 
 rasizem v naši družbi.\n\n\n\nŽelimo predstaviti izkušnje in dobre pra
 kse dela s transgeneracijskimi vzorci in se pri tem osredotočiti tudi na 
 načine za krepitev možnosti prenašanja pozitivnih vzorcev.\n\n\n\nZanim
 a nas kako se strokovnjaki iz različnih področij (izobraževanja\, sveto
 vanja\, organizacij\, psihoterapevti) soočajo z različnimi izzivi kultur
 nih razlik.\n\n\n\nZ nami bodo:\n\n\n\nEvelyne Papaux (TSTA-E)\nUzma Khan\
 nDr. Ana Bodgan Župančič\nAna Rokvič Pinteric\nGloria Noriega Gayol (T
 STA -P)\nDr. Branko Brinšek\nSimona Tičar in Eva Ristič\nMiha Bevc\nEmm
 a Haynes (TSTA-P)\nTanja Krist (PTSTA-P)\n\n\n\n\n\n\n\nProgram srečanja\
 n\n\n\nRazširjen program\n\n\n\nKOTIZACIJA\n\n\n\nČlani_ce društva Slov
 enta: 120\,00 EUR\n\n\n\nOstali: 140\,00 EUR\n\n\n\nEnodnevna kotizacija:\
 n\n\n\n- Člani_ce društva Sloventa\, 70 EUR\n\n\n\nPRIJAVA\n\n\n\nNa sem
 inar se prijavite tako\, da:\n\n\n\n- Izpolnite spletno prijavnico\n\n\n\
 nPrijava je potrjena s plačilom kotizacije ali naročilnico v primeru\, d
 a je plačnik pravna oseba.\n\n\n\nPODATKI ZA NAKAZILO KOTIZACIJE\n\n\n\nD
 ruštvo Sloventa\nBratovševa ploščad 2\, 1000 Ljubljana\nSI56 0201 0009
  2460 657\, pri NLB\nKoda namena: OTHR\nNamen: vpišete IME PRIIMEK – SS
 23\nSklic: SI 00 2023\n\n\n\nRačun o plačani kotizaciji vam bomo posredo
 vali po prejetem plačilu.\n\n\n\nINFORMACIJE V PRIMERU ODPOVEDI\n\n\n\nOd
 java je možna v pisni obliki po elektronski pošti na elektronski naslov\
 , seminarji@sloventa.si.\nZadnji rok za odjavo s 100% vračilom plačila 
 je do tri (3) delovne dni pred začetkom Strokovnega srečanja.\nPri odjav
 ah prejetih dva (2) ali en (1) delovni dan pred Strokovnim srečanjem se z
 aračunajo administrativni stroški v višini 15% kotizacije.\nPri kasnej
 ši odjavi ali v primeru\, da odjava ni bila pisno posredovana\, se kotiza
 cija zaračuna v celoti.\n\n\n\nOdjava ni možna\, če je udeleženec ob p
 rijavi izrecno zahteval plačilo po Strokovnem srečanju.\nV takem primeru
  se udeležencu ob neudeležbi iz kakršnega koli razloga zaračuna celotn
 a kotizacija.\n\n\n\nNe glede na zgornje določbe bo Sloventa skušala re
 ševati odpovedi prijav v korist prijavljenega udeleženca. Prijava je v t
 em primeru prenosljiva tudi na drugo osebo.\n\n\n\nZa morebitna dodatna vp
 rašanja\, nam pišite na elektronski naslov: seminarji@sloventa.si.
ATTACH;FMTTYPE=image/jpeg:https://www.sloventa.si/wp-content/uploads/2023/
 04/SS2023.png
CATEGORIES:Strokovna srečanja
END:VEVENT
BEGIN:VTIMEZONE
TZID:Europe/Ljubljana
X-LIC-LOCATION:Europe/Ljubljana
BEGIN:DAYLIGHT
DTSTART:20230326T030000
TZOFFSETFROM:+0100
TZOFFSETTO:+0200
TZNAME:CEST
END:DAYLIGHT
END:VTIMEZONE
END:VCALENDAR