BEGIN:VCALENDAR
VERSION:2.0
PRODID:-//wp-events-plugin.com//7.2.3//EN
TZID:Europe/Ljubljana
X-WR-TIMEZONE:Europe/Ljubljana
BEGIN:VEVENT
UID:19@sloventa.si
DTSTART;TZID=Europe/Ljubljana:20250922T000000
DTEND;TZID=Europe/Ljubljana:20250922T000000
DTSTAMP:20250915T062325Z
URL:https://www.sloventa.si/dogodki/cujecnost-nadaljevalni-mesecni-program
 /
SUMMARY:ČUJEČNOST – nadaljevalni mesečni program
DESCRIPTION:MEDIUS - Inštitut za čuječnost\, izobraževanje in svetovanj
 e\n\n \nvas vabi na celoletni program\n\nČUJEČNOST – nadaljevalni mes
 ečni program\n\n22. 9. 2025–15. 6. 2026\nLjubljana\n\nProgram bo vodil
 a mag. Mateja Lenarčič\, mednarodno certificirana učiteljica čuječnos
 ti po metodah MBSR in MBCL\, transakcijska analitičarka - svetovalka\, tr
 enerka\, predavateljica\, več o njen na: https://www.institut-medius.si/o
 -nas/\n\nNadaljevalni mesečni program je namenjen vsem udeležencem po z
 aključku MBSR in/ali MBCL 8-tedenskega programa\, ki želite nadaljevati 
 s treningom čuječnosti ter poglobiti svojo prakso in razumevanje.\n\nVe
 č na: https://www.institut-medius.si/skupinska-mesecna-mbsr-mindfulness-b
 ased-stress-reduction--mbcl-mindfulness-based-compassionate-living-praksa/
 ?iframe=true\n\n&nbsp\;\n\nKje in kdaj: \n\nMEDIUS - Inštitut za čuječ
 nost\, izobraževanje in svetovanje\, Litijska cesta 150\, 1000 Ljubljana 
 (možno tudi online ZOOM)\n\n&nbsp\;\n\nZačetek: ponedeljek\, 22.9.\, ob 
 18.30\n\nTrajanje programa: 1 x mesečno\, vsak 3. ponedeljek v mesecu: 1
 8:30 – 20:00\n\nTermini: 22. 9.\, 20. 10.\, 17. 11.\, 15. 12.\, 19. 1.\
 , 16. 2.\, 16. 3.\, 20. 4.\, 18. 5.\, 15. 6.\n\n&nbsp\;\n\nKotizacija:\n\n
 200 EUR\n\nPrijava in informacije:\nPrijave na info@institut-medius.si\n\n
 https://www.institut-medius.si
ATTACH;FMTTYPE=image/jpeg:https://www.sloventa.si/wp-content/uploads/2024/
 09/Sloventa-8.jpg
CATEGORIES:Delavnice
END:VEVENT
BEGIN:VTIMEZONE
TZID:Europe/Ljubljana
X-LIC-LOCATION:Europe/Ljubljana
BEGIN:DAYLIGHT
DTSTART:20250330T030000
TZOFFSETFROM:+0100
TZOFFSETTO:+0200
TZNAME:CEST
END:DAYLIGHT
END:VTIMEZONE
END:VCALENDAR