BEGIN:VCALENDAR
VERSION:2.0
PRODID:-//wp-events-plugin.com//7.2.3//EN
TZID:Europe/Ljubljana
X-WR-TIMEZONE:Europe/Ljubljana
BEGIN:VEVENT
UID:13@sloventa.si
DTSTART;TZID=Europe/Ljubljana:20250523T170000
DTEND;TZID=Europe/Ljubljana:20250524T163000
DTSTAMP:20250327T200322Z
URL:https://www.sloventa.si/dogodki/delavnica-o-organizacijskem-skriptu-s-
 tin-vanderhoeven/
SUMMARY:Delavnica o organizacijskem skriptu s Tin Vanderhoeven
DESCRIPTION:Društvo Sloventa vas prijazno vabi na izkustveno delavnico s p
 odročja Organizacijske transakcijske analize\, s predavateljico Tin Vande
 rhoeven z Nizozemske\, ki bo potekala 23. in 24. maja 2025 v M Hotelu v Lj
 ubljani.\n&nbsp\;\nTA nas uči\, da imamo ljudje edinstveni\, osebni skrip
 t. Odločitve\, ki smo jih sprejeli v zgodnjem otroštvu in so ojačane š
 e s kasnejšimi izkušnjami in dogodki\, se ponovijo v naših življenjih.
  To se nadaljuje\, dokler se v polnem zavedanju Odraslega ne odločimo\, d
 a bomo delovali\, mislili ali čutili drugače\, ne glede na ponavljajoče
  se vzorce.\nSkriptov pa nimamo le ljudje\, ampak tudi skupine\, timi\, po
 djetja in organizacije. In tudi organizacijski skripti so nezavedni\, saj 
 sisteme sestavljajo ljudje v interakcijah in v medsebojnih sodelovanjih te
 r v oblikovanju vsakega delovnega dne drug z drugim.\nV tej interaktivni T
 A-O delavnici se bomo osredotočili na diagnoze in intervencije organizaci
 jskih skriptov. Odkrivali bomo\, kako se se pojavili\, pogosto z močnim v
 plivom vodstva in kulture\, in kaj lahko storimo\, da jim “snamemo maske
 ” in jih izzovemo\, kadar gredo proti delovnim nalogam in dejavnostim si
 stema.\nRaziskovali bomo tudi prepovedi\, ki udeležencem omogočajo podre
 jenost vodstvu\, ter podobne eksplicitne in implicitne kulturne vrednote.\
 nPogledali si bomo\, kaj govorijo različni TA avtorji o organizacijskih s
 kriptih\, predvsem Berna (1963)\, Krausza (1993)\, Balllinga (2005) in Hay
 jevo (2012)\, in uporabili njihove modrosti\, da bomo lažje razumeli naš
 e izkušnje v skupinah in organizacijah.\nUdeleženci ste vabljeni k sodel
 ovanju\, s seboj prinesite primere za refleksijo in uporabo na delavnici.\
 nDelavnico bo potekala v angleškem jeziku\, v petek\, 23. maja\, od 17.00
  do 20.00\, in v soboto\, 24. maja\, od 10.00 do 16.30\, v M hotelu v Ljub
 ljani. Kosilo bo omogočeno na mestu delavnice.\n&nbsp\;\nTin (PTSTA-O) d
 eluje kot neodvisna trenerka\, supervizorka\, poslovna coachinja in orga
 nizacijska svetovalka za nacionalne in mednarodne skupine in organizacije.
  Kariero je začela v oddelku za človeške vire\, od leta 1998 je aktivna
  kot trenerka/coachinja. Leta 2006 je Tin ustanovila Kresko\, podjetje z
 a usposabljanje in organizacijsko svetovanje v Belgiji. V svoje poslovne s
 toritve integrira različne metode in aplikacije\, ki temeljijo na  trans
 akcijski analizi. Zanjo je TA pomemben ključ za sprostitev potencialov lj
 udi v okviru medsebojnih in soustvarjalnih in odnosov. Izvaja TA-usposablj
 anja na TA-inštitutu Corael na Nizozemskem (corael.nl).\nTin je nekdanja
  predsednica flamskega združenja TA in nekdanja članica uredništva nizo
 zemske revije TA. Tin je trenutno belgijska delegatka EATA znotraj COC.\
 n&nbsp\;\nCena:\nza članice in člane:\n- zgodnje prijave do 23.aprila: 
  250 EUR\n- prijava po 23. aprilu: 280 EUR\nza nečlanice in nečlane:\n- 
 zgodnje prijave do 23. aprila: 280 EUR\n- prijava po 23. aprilu: 310 EUR\n
 &nbsp\;\nPRIJAVA: Na delavnico se prijavite prek prijavnice in s plačilom
  kotizacije.\nPodatki za plačilo kotizacije: IBAN: SI56 0201 0009 2460 6
 57\, swift code (bic banke): LJBASI2X\, koda namena: OTHR\, namen plačila
 : kotizacija za Ime in Priimek – Delavnica organizacijske TA\, referenca
 : SI 00 2025\nPrejemnik: Društvo Sloventa\, Bratovševa ploščad 2\, 100
 0\, Ljubljana
ATTACH;FMTTYPE=image/jpeg:https://www.sloventa.si/wp-content/uploads/2025/
 03/Delavnica-o-organizacijskem-skriptu.png
CATEGORIES:Delavnice
END:VEVENT
BEGIN:VTIMEZONE
TZID:Europe/Ljubljana
X-LIC-LOCATION:Europe/Ljubljana
BEGIN:DAYLIGHT
DTSTART:20250330T030000
TZOFFSETFROM:+0100
TZOFFSETTO:+0200
TZNAME:CEST
END:DAYLIGHT
END:VTIMEZONE
END:VCALENDAR