BEGIN:VCALENDAR
VERSION:2.0
PRODID:-//wp-events-plugin.com//7.2.3//EN
TZID:Europe/Ljubljana
X-WR-TIMEZONE:Europe/Ljubljana
BEGIN:VEVENT
UID:31@sloventa.si
DTSTART;TZID=Europe/Ljubljana:20260520T170000
DTEND;TZID=Europe/Ljubljana:20260520T203000
DTSTAMP:20260415T055342Z
URL:https://www.sloventa.si/dogodki/delavnica-razvoj-timov-in-timska-dinam
 ika/
SUMMARY:Delavnica Razvoj timov in timska dinamika
DESCRIPTION:Društvo Sloventa\nvabi na dvodnevno delavnico\nRAZVOJ TIMOV IN
  TIMSKA DINAMIKA\nsreda\, 20. maj 2026 (17:00-20:30)\nčetrtek\, 28. maj 2
 026 (17:00-20:30)\n\nM Hotel\, Ljubljana\n\nDelavnico bo vodila Ana Šušt
 eršič\, univ. dipl. psih.\, CTA-O.\n\n&nbsp\;\n\nNa delavnici bomo šli 
 skozi faze razvoja tima in pogledali Bernov model razvoja timov in skupin\
 , ki ga je imenoval Imago.\n\nRaziskovali bomo razlike med timom in skupin
 o ter temeljne strukture\, dinamiko in psihodinamiko v timih.\n\nPodrobnej
 e se bomo osredotočili na to\, kaj mora vodja tima narediti v vsaki fazi 
 razvoja tima\, da tim čim hitreje postane učinkovit. Tim in timsko delo 
 bomo povezali še z nekaterimi drugimi modeli izven TA.\n\nUdeleženci bod
 o dobili praktične uvide za delo v skupini in timu.\n\nKomu je delavnica 
 namenjena?\nDelavnica je namenjena vsem\, ki delajo s skupinami in timi\, 
 skupinskim terapevtom\, delovnim terapevtom\, organizatorjem\, učiteljem\
 , vodjem\, direktorjem\, managerjem\, svetovalcem v organizacijah.\n\nO iz
 vajalki:\n\nAna Šušteršič\, univ. dipl. psih.\, CTA-O (certificirana t
 ransakcijska analitičarka za področje organizacij)\, registrirana EuroPs
 y psihologinja. Ustanoviteljica podjetja Talents Management Institute d.o.
 o.\, lastnica privatne psihološke prakse.\n\nPodiplomski študij manageme
 nta je zaključila na Swinburne University of Techology v Melbournu v Avst
 raliji in na Ekonomski fakulteti v Ljubljani. Je certificirana transakcijs
 ka analitičarka s področja organizacij\, specializantka transakcijske an
 alize s področja edukacije in psihoterapije\, NLP learning Coachinja (cer
 tifikat INLPTA\, Inštitut ILE Nemčija)\, certificirana svetovalka v orga
 nizacijah (Inštitut Initial\, Nemčija)\, Cerftificirana za uporabo tehni
 ke EMDR (dr. Roger Solomon)\, trenerka Umetnosti inoviranja in soustanovit
 eljica 12 dejavnikov inoviranja\, Certificirana SDI trenerka 1. in 2. stop
 nje\, Certificirani vodja trajnostnega razvoja in certificirana za optimiz
 acijo procesov v organizacijah\, Certificirani timski coach (Intact Academ
 y\, ICF certificirani program)\, Certificirana hipnoterapevtka (Richard Ba
 ndler\, ZDA). Ana je v stalnem procesu usposabljanja s svojimi mentorji in
  supervizorji v tujini pa tudi v Sloveniji. Že 30 let dela v gospodarstvu
 \, zadnjih 15 let na področju razvoja kadrov. Delala je na vodstvenih del
 ovnih mestih v medijih\, prodaji in marketingu. Zadnja leta je primarno os
 redotočena na svetovanje organizacijam\, usposabljanja in coaching vodij 
 z namenom povečanja učinkovitosti delovanja organizacije.\n\n\n\nKje in 
 kdaj:\nM Hotel\, Ljubljana\n\nDvodnevna delavnica:\n● sreda\, 20. maj\, 
 od 17:00 do 20:30\n● četrtek\, 28. maj\, od 17:00 do 20:30\nZaradi pri
 čakovane prometne konice vljudno priporočamo\, da svoj prihod načrtujet
 e z ustrezno časovno rezervo.\n\nKotizacija:\n\n 	za udeležence_ke prej
 šnje delavnice (Psihološke igre v organizacijah) – člane_ice: 170\,00
  eur\n 	za udeležence_ke prejšnje delavnice (Psihološke igre v organiza
 cijah) – nečlane_ice: 190\,00 eur\n 	za člane_ice: 190\,00 eur\n 	za n
 ečlane_ice: 210\,00 eur\n\nPrijave in informacije:\nNa delavnico se prija
 vite tako\, da izpolnite spletno prijavnico.\nPrijava je potrjena s plači
 lom kotizacije ali z naročilnico v primeru\, da je plačnik javni zavod.\
 n\nPodatki za plačilo kotizacije:\nIBAN: SI56 0201 0009 2460 657\nBIC ban
 ke (SWIFT): LJBASI2X\nKoda namena: OTHR\nNamen plačila: IME in PRIIMEK 
 – delavnica Razvoj Timov\nPrejemnik: Društvo Sloventa\, Bratovševa plo
 ščad 2\, 1000\, Ljubljana\nReferenca: SI 00 2026\nSWIFT CODE (BIC) za na
 kazila iz tujine: LJBASI2X.\n\nRačun o plačani kotizaciji vam bomo posre
 dovali po prejetem plačilu.\n\nInformacije v primeru odpovedi:\nOdjava je
  možna v pisni obliki po elektronski pošti na elektronski naslov: semina
 rji@sloventa.si.\nZadnji rok za odjavo s 100% vračilom plačila je do tri
  (3) delovne dni pred začetkom delavnice.\nPri odjavah prejetih dva (2) a
 li en (1) delovni dan pred delavnico se zaračunajo administrativni stroš
 ki v višini 15% kotizacije.\nPri kasnejši odjavi ali v primeru\, da odja
 va ni bila pisno posredovana\, se kotizacija zaračuna v celoti.\n\nOdjava
  ni možna\, če je udeleženec ob prijavi izrecno zahteval plačilo po de
 lavnici.\nV takem primeru se udeležencu ob neudeležbi zaračuna celotna 
 kotizacija\, ne glede na razlog odpovedi.\n\nV Društvu Sloventa si prizad
 evamo reševati odpovedi v korist prijavljenega udeleženca\, zato je mož
 no prijavo prenesti tudi na drugo osebo.\n\nZa vsa dodatna vprašanja in i
 nformacije pišite na seminarji@sloventa.si.\n\nVabljeni!
ATTACH;FMTTYPE=image/jpeg:https://www.sloventa.si/wp-content/uploads/2024/
 09/Sloventa-6.jpg
CATEGORIES:Delavnice
END:VEVENT
BEGIN:VTIMEZONE
TZID:Europe/Ljubljana
X-LIC-LOCATION:Europe/Ljubljana
BEGIN:DAYLIGHT
DTSTART:20260329T030000
TZOFFSETFROM:+0100
TZOFFSETTO:+0200
TZNAME:CEST
END:DAYLIGHT
END:VTIMEZONE
END:VCALENDAR