BEGIN:VCALENDAR
VERSION:2.0
PRODID:-//wp-events-plugin.com//7.2.3//EN
TZID:Europe/Ljubljana
X-WR-TIMEZONE:Europe/Ljubljana
BEGIN:VEVENT
UID:15@sloventa.si
DTSTART;TZID=Europe/Ljubljana:20250926T090000
DTEND;TZID=Europe/Ljubljana:20250927T170000
DTSTAMP:20250416T071224Z
URL:https://www.sloventa.si/dogodki/delavnica-zivljenje-ljubezen-in-kreati
 vnost/
SUMMARY:Delavnica Življenje\, ljubezen in kreativnost
DESCRIPTION:Spoštovani.\n\nVabimo vas na dvodnevno delavnico\n\nŽIVLJENJE
 \, LJUBEZEN IN KREATIVNOST \n\nv izvedbi Barbare Repinc Zupančič. \n\nD
 elavnica bo potekala 26. in 27. septembra 2025 med 9.00 in 17.00 v M Hotel
 u v Ljubljani. \n\n&nbsp\;\n\nOpis delavnice\n\nTransakcijska analiza se 
 šele v zadnjih letih ponovno vrača k bolj pozitivnemu pristopu k življe
 nju – k raziskovanju physisa in odpornosti\, ki jih nosimo v sebi. V pre
 teklosti se je TA več desetletij posvečala predvsem patološkim platem o
 sebnosti in našega delovanja\, v zadnjem desetletju pa lahko zaznamo spre
 membo – fokus se počasi obrača na to kaj deluje\, kje so naše odporno
 sti\, kje so naši viri moči (Trudi Newton\, Gilles Barrow\, Keith Tudor)
 . Pri tem se pričenjajo v teorijo in prakso vključevati tudi zadnji dose
 žki na področju obravnave telesa\, nevroznanosti in kvantne fizike (Will
 iam F. Cornell\, Edward T. Novak\, Cristina Caizzi\, idr.). Metode in t
 ehnike\, ki se nam ponujajo\, nas pogosto lahko spomnijo na različne ritu
 ale\, ki so jih uporabljali naši predniki ali jih še uporabljajo ljudstv
 a\, ki ne sledijo modernemu načinu življenja. Zdi se\, kot da se s pomo
 čjo znanosti lahko spet vračamo k enostavnim načinom celjenja in opolno
 močenja\, ki so nam sicer dani že ob rojstvu.\n\nV delavnici bomo najpre
 j raziskovali\, kakšen odnos imamo do življenjske energije znotraj in ok
 rog nas\, v okviru TAja se bomo naslonili predvsem na koncept physisa (Eri
 c Berne\, Muriel James\, Petruska Clarkson\, Geoff Hopping). Zatem bomo ob
 novili znanje o skriptnem protokolu - vidni shemi telesnega vedenja\, ki j
 e podlaga za večje premike v scenariju posameznika (Eric Berne\, David St
 eere\, Steff Oats) ter o globokem vplivu arhetipov prednikov\, ki se prena
 šajo v kolektivnem nezavednem (Martin Wells\, John Nuttal\, Helena Hargad
 en) in se odražajo tudi preko naše telesne drže\, gibov\, celičnega va
 lovanja\, ki so nam bodisi blizu\, bodisi čisto nepoznani.\n\nV praktičn
 em delu delavnice se bomo seznanili z Osnovnimi nevroceličnimi vzorci (Th
 e Basic Neurocellular Patterns (BNP)\, Bonnie Bainbridge Cohen) in preko t
 elesnih vaj raziskovali\, kako si je naše telo blizu s petimi razvojnimi 
 gibi (yield\, push\, reach\, grasp\, pull). Ti vzorci nas oblikujejo v zgo
 dnjem otroštvu\, preko njih se povezujemo\, branimo\, učimo\, organizira
 mo in združujemo informacije ter vplivajo na to\, kakšen odnos imamo do 
 sebe\, drugih in sveta. Kot odrasli lahko te vzorce ponovno pregledamo\, j
 ih raziščemo in najdemo nove vire moči in opcije\, ki jih prinaša živ
 ljenje.\n\nPodobno vlogo ponuja tudi dvostransko vodeno risanje - gre za m
 etodo\, povezano z EMDRjem\, čuječnostjo\, senzomotoričnimi teorijami\,
  teorijo travme in Jungovimi arhetipi\, ki jo je razvila Cornellia Elbrec
 ht. V dvostranskem risanju klienta vodi njegova lastna notranja sila\, tel
 o kartira na način\, da upošteva njegove travme\, pri tem pa skrbi tudi 
 za integracijo funkcij leve in desne polovice možganov. Za potrebe te del
 avnice se bomo seznanili samo z osnovnimi oblikami in linijami dvostranske
 ga risanja\, zlasti s tistimi\, ki nam lahko pomagajo pri delu s travmati
 čnimi odzivi telesa\, kot so beg\, boj ali zamrznitev. Kadar delamo s pos
 ameznikom\, ki je zapadel v reaktivno stanje\, mu dvostransko vodeno risan
 je pomaga\, da prek občutkov gibanja začuti neko olajšanje\, kar zmanj
 ša njegove občutke ujetosti\, odmaknjenosti\, izpostavljenosti in odcepl
 jenosti. Dvostransko vodeno risanje lahko začne spodbujati proces samoreg
 ulacije v klientovem telesu.\n\nStik s svojim telesom spodbuja tudi stik z
  drugimi\, omogoča tudi dostop do naših čustev\, predvsem pa krepi zaup
 anje. In zaupanje je tesno povezano tudi z ljubeznijo – do nas samih\, d
 rugih in sveta.\n\nTako bomo v drugem delu delavnice raziskovali\, kako je
  življenjska energija povezana z ljubeznijo. Na kreativen način (kolaž\
 , pisanje\, ustvarjanje zgodbe\, uporaba fotografije) bomo med seboj delil
 i kaj nam osebno pomeni ljubezen in kakšen odnos ima do ljubezni današnj
 a družba. Seznanili se bomo tudi z nekaterimi teorijami ljubezni (John Bo
 wlby\, Robert J. Sternberg\, John Gottman) in kako nam lahko to znanje pom
 aga v odnosih »jaz sem – ti si – mi smo«\, kako vpliva na našo krea
 tivnost\, voljo do življenja ter spodbuja upanje.\n\n&nbsp\;\n\nO Barbari
  Repinc Zupančič\n\nV prvem desetletju dela sem delala znotraj različni
 h področij socialnega varstva (predvsem z žrtvami in preganjalci nasilja
  v družini\, z mladimi v krizi in na področju zaščite otrok). Drugo de
 setletje mojega dela je bilo povezano predvsem z mojo zasebno terapevtsko 
 prakso\, kjer še vedno delam z mladostniki in posameznimi odraslimi klien
 ti. Moje glavno zanimanje je delo s travmo in z vprašanji eksistencialne 
 tesnobe. Znotraj področja travme me zanimajo travme iz otroštva\, kjer u
 porabljam znanje iz EMDR\, Somatske izkušnje\, Dvostranskega risanja in i
 z psihoterapije za otroke in mlade. Moje tretje desetletje dela je danes v
 ečinoma povezano s supervizijo in poučevanjem. Diplomirala sem kot integ
 rativna supervizorka in supervizorka TA ter uživam kot učiteljica psihot
 erapije v Sloveniji in gostujoča učiteljica na Hrvaškem\, UK in Indiji.
  Poleg tega sem supervizorka šolskim svetovalnim delavcem\, svetovalnim d
 elavcev v socialnem varstvu in prostovoljcem v nevladnih društvih\, kjer 
 najraje uporabljam kreativne tehnike. V prostem času rada potujem\, hodim
  v gore\, vrtnarim in se družim z mojo družino.\n\n\n\n&nbsp\;\n\nCena:\
 n\nza članice in člane:\n\n– zgodnje prijave do 23. julija:  190 EUR\
 n\n– prijava po 23. juliju: 220 EUR\n\nza nečlanice in nečlane:\n\n–
  zgodnje prijave do 23. julija: 220 EUR\n\n– prijava po 23. juliju: 250 
 EUR\n\n&nbsp\;\n\nPRIJAVA: Na delavnico se prijavite prek prijavnice in
  s plačilom kotizacije.\n\n&nbsp\;\n\nPodatki za plačilo kotizacije: IBA
 N: SI56 0201 0009 2460 657\, swift code (bic banke): LJBASI2X\, koda namen
 a: OTHR\, namen plačila: kotizacija za Ime in Priimek – Delavnica BArba
 re Repinc Zupančič\, referenca: SI 00 2025\nPrejemnik: Društvo Sloventa
 \, Bratovševa ploščad 2\, 1000\, Ljubljana
ATTACH;FMTTYPE=image/jpeg:https://www.sloventa.si/wp-content/uploads/2025/
 04/delavnica-slika.jpg
CATEGORIES:Delavnice
END:VEVENT
BEGIN:VTIMEZONE
TZID:Europe/Ljubljana
X-LIC-LOCATION:Europe/Ljubljana
BEGIN:DAYLIGHT
DTSTART:20250330T030000
TZOFFSETFROM:+0100
TZOFFSETTO:+0200
TZNAME:CEST
END:DAYLIGHT
END:VTIMEZONE
END:VCALENDAR