BEGIN:VCALENDAR
VERSION:2.0
PRODID:-//wp-events-plugin.com//7.2.3//EN
TZID:Europe/Ljubljana
X-WR-TIMEZONE:Europe/Ljubljana
BEGIN:VEVENT
UID:14@sloventa.si
DTSTART;TZID=Europe/Ljubljana:20250603T170000
DTEND;TZID=Europe/Ljubljana:20250603T190000
DTSTAMP:20250520T064753Z
URL:https://www.sloventa.si/dogodki/didakticno-supervizijska-ta-o-skupina/
SUMMARY:Didaktično-supervizijska TA-O skupina
DESCRIPTION:\n\n\nTalents Management Institute d.o.o. vabi k pridružitvi 
 didaktično-supervizijski skupini TA-O (organizacijske transakcijske anali
 ze).\n\nSkupino bo vodila mag. Ana Šušteršič\, univ. dipl. psih.\, CTA
 -O.\n\n\n\n\nPogoj je zaključeno uvodno izobraževanje TA101.\n\nKomu je 
 namenjena skupina?\n\n\n\n 	vsem\, ki se zanimate za TA-O\,\n 	vsem\, ki 
 se želite usmeriti v TA-O\,\n 	vsem\, ki delujete v organizacijskem okolj
 u\,\n 	vsem\, ki delujete na področju šolstva\, socialnega dela\,\n 	kad
 rovskim strokovnjakom\, svetovalcem\, vodjem ipd.\n\n\nNamen skupine:\n\n
  	izobraževanje\,\n 	supervizija\,\n 	podpora pri delu s skupinami\,\n 	p
 rofesionalni razvoj.\n\nVelikost skupine:\n6-8 ljudi (št. je omejeno)\n\
 nLokacija in termini:\nRiharjeva ulica 38\, 1000 Ljubljana\, 1. nad\n\nSku
 pina bo potekala enkrat mesečno.***\npetek\, 16. maj\, 17.00-19.00 (uvod
 no srečanje)\ntorek\, 3. junij\, 17.00-19.00\n\n***Jeseni sledi nov sklop
  terminov\, ki se bo določil na sami skupini (izbira dneva v tednu in nad
 aljnji termini). \n\nKotizacija:\n40 EUR/ srečanje\n\nO izvajalki: mag.
  Ana Šušteršič\, univ. dipl. psih.\, CTA-O\, Sloventa\, EATA\, ITAA\n
 Mag. Ana Šušteršič je diplomirana psihologinja in magistra management
 a. Podiplomski študij s področja managementa je zaključila v Avstraliji
  na Swinburne University of Technology in na Ekonomski fakulteti v Ljublja
 ni\, kjer je magistrirala na temo uporabnosti orodij za ugotavljanje poten
 ciala ljudi pri delu. Zaključila je usposabljanje iz TA-P\, TA-E in TA-O 
 ter pridobila naziv CTA s področja organizacije. Po več kot 20-letni kar
 ieri v gospodarstvu na področju marketinga in vodenja je leta 2009 odprla
  svojo psihološko svetovalnico\, v kateri izvaja psihološko svetovanje. 
 Je ustanoviteljica podjetja Talents Management Institute d. o. o.\, ki je 
 specializirano za ocenjevanje in razvoj kadrov (iskanje talentov\, kariern
 i coaching\, vodstveni coaching\, timski coaching) ter svetovanje organiza
 cijam na področju organizacijske psihologije (struktura\, klima\, kultura
 \, konflikti\, change management). Največ dela z vodji in vodstvenimi tim
 i na področju razvoja vodstvenih kompetenc.\n\nNjeni naročniki so: Inš
 titut Jožef Štefan\, Plastika Skaza\, Novartis\, Knauf Insulations\, Fak
 ulteta za računalništvo in informatiko\, EBM Papst\, Beti Metlika\, SEP\
 , Dat-Con\, SEL\, C&amp\;G\, Audax\, Turna\, Alarm\, Helios\, Zavarovalnic
 a Triglav\, Kostak\, Turna\, Stritih consulting\, GZS itd.\n\nPrijavnica i
 n informacije:\nPrijavnica na tej povezavi.\nVeč informacij na ana.sus
 tersic@tmi.si  ali na https://www.tmi.si/.\n\n\n
ATTACH;FMTTYPE=image/jpeg:https://www.sloventa.si/wp-content/uploads/2024/
 09/Sloventa-6.jpg
END:VEVENT
BEGIN:VTIMEZONE
TZID:Europe/Ljubljana
X-LIC-LOCATION:Europe/Ljubljana
BEGIN:DAYLIGHT
DTSTART:20250330T030000
TZOFFSETFROM:+0100
TZOFFSETTO:+0200
TZNAME:CEST
END:DAYLIGHT
END:VTIMEZONE
END:VCALENDAR