BEGIN:VCALENDAR
VERSION:2.0
PRODID:-//wp-events-plugin.com//7.2.3//EN
TZID:Europe/Ljubljana
X-WR-TIMEZONE:Europe/Ljubljana
BEGIN:VEVENT
UID:17@sloventa.si
DTSTART;TZID=Europe/Ljubljana:20251120T000000
DTEND;TZID=Europe/Ljubljana:20251120T000000
DTSTAMP:20250915T061418Z
URL:https://www.sloventa.si/dogodki/izobrazevanje-iz-transakcijsko-analiti
 cne-psihoterapije-2026/
SUMMARY:Izobraževanje iz transakcijsko analitične psihoterapije 2026
DESCRIPTION:Inštitut za integrativno psihoterapijo in svetovanje  (IPSA) 
 vabi na izobraževanje iz transakcijsko analitične psihoterapije (TA-202)
  2026\, vpis v štiriletno izobraževanje.\n\n&nbsp\;\n\nInštitut za inte
 grativno psihoterapijo in svetovanje\, Ljubljana sporoča\, da smo pričel
 i z vpisom v štiriletno izobraževanje iz transakcijsko-analitične psiho
 terapije. Izobraževanje je namenjeno vsem\, ki vas zanima specialistično
  izobraževanje iz psihoterapije in svetovanja\, pa tudi tistim\, ki se ž
 elite samo nadalje izobraževati in izpopolnjevati pri svojem delu. Študi
 j se bo začel februarja 2026.\n\nCelotni študij traja štiri leta in vo
 di do certifikata iz transakcijsko-analitične psihoterapije. Certifikat j
 e mednarodno priznan v okviru Evropske zveze za transakcijsko analizo (EAT
 A) in Mednarodne zveze za transakcijsko analizo (ITAA). Izobraževanje iz 
 transakcijsko-analitične psihoterapije je priznano tudi s strani Evropske
  zveze za psihoterapijo (EAP) in omogoča pridobitev Evropskega certifikat
 a iz psihoterapije. V Sloveniji pa omogoča pridobitev Slovenske diplome i
 z psihoterapije v okviru Slovenske krovne zveze za psihoterapijo.\n\nZa pr
 ijavo na študij pošljite izpolnjen prijavni obrazec in dokazila o izob
 razbi na e-naslov: prijave@ipsa.si. Po preteku roka prijave vas bomo obve
 stili o nadaljnjih postopkih. Kandidati\, ki ustrezajo pogojem\, bodo vabl
 jeni na uvodni razgovor. Rok za prijavo za vpis v 1. letnik je 20. novem
 ber 2025.\n\nVeč informacij o študiju lahko najdete na naši spletni st
 rani in v PDF zloženki. Za vsa dodatna vprašanja smo dosegljivi na p
 rijave@ipsa.si.\n\n&nbsp\;\n\nInštitut za integrativno psihoterapijo in s
 vetovanje\n\nStegne 7\, 1000 Ljubljana\n\ne-naslov: info@institut-ipsa.si
 \n\nSpletna stran: www.ipsa.si
ATTACH;FMTTYPE=image/jpeg:https://www.sloventa.si/wp-content/uploads/2025/
 09/unnamed-2.jpg
CATEGORIES:Seminarji
END:VEVENT
BEGIN:VTIMEZONE
TZID:Europe/Ljubljana
X-LIC-LOCATION:Europe/Ljubljana
BEGIN:STANDARD
DTSTART:20251026T020000
TZOFFSETFROM:+0200
TZOFFSETTO:+0100
TZNAME:CET
END:STANDARD
END:VTIMEZONE
END:VCALENDAR