BEGIN:VCALENDAR
VERSION:2.0
PRODID:-//wp-events-plugin.com//7.2.3//EN
TZID:Europe/Ljubljana
X-WR-TIMEZONE:Europe/Ljubljana
BEGIN:VEVENT
UID:16@sloventa.si
DTSTART;TZID=Europe/Ljubljana:20250918T163000
DTEND;TZID=Europe/Ljubljana:20250918T200000
DTSTAMP:20250508T060435Z
URL:https://www.sloventa.si/dogodki/podpora-osebam-z-avtizmom/
SUMMARY:Podpora osebam z avtizmom
DESCRIPTION:Vabljeni na celoletno usposabljanje Podpora osebam z avtizmom.\
 n\nAvtizem ni zgolj diagnoza\, temveč vseživljenjsko stanje s širokim s
 pektrom edinstvenih lastnosti\, ki vplivajo na zaznavanje sveta\, obdelavo
  informacij\, komunikacijo\, čustvovanje in vsakdanje življenje. Prisote
 n je pri otrocih\, mladostnikih in odraslih ter ne oblikuje le posameznika
 \, temveč globoko vpliva tudi na njegovo družino in širšo skupnost. Ra
 zumevanje in podpora zahtevata celostni in multidisciplinarni pristop.\n\n
 To usposabljanje temelji na najnovejših raziskavah\, dolgoletnih strokovn
 ih izkušnjah predavateljev ter praktičnih primerih iz dela s posamezniki
  na spektru avtizma. Namenjeno je psihologom\, pedagogom\, psihoterapevtom
 \, socialnim delavcem\, učiteljem\, delovnim terapevtom in drugim strokov
 njakom\, ki pri svojem delu obravnavajo osebe z avtizmom.\n\nUsposabljanje
  namenjeno strokovnjakom\, ki želijo:\n\n 	Pridobiti poglobljeno razumeva
 nje avtizma.\n 	Spoznati nove terapevtske tehnike in učinkovite pristope 
 za delo z mladostniki in odraslimi.\n 	Supervizirati svoje delo in nadgrad
 iti svoje kompetence na področju avtizma.\n\nVsebina usposabljanja\nV des
 etih srečanjih bomo obravnavali ključne vidike avtizma:\n\n 	Prepoznavan
 je avtizma pri otrocih\, mladih in odraslih.\n 	Pridružene motnje in razl
 ikovanje od avtizmu podobnih stanj.\n 	Posebnosti senzornih sistemov in st
 rategije za regulacijo.\n 	Kognitivne značilnosti in učenje pri osebah z
  avtizmom.\n 	Jezik in komunikacija – posebnosti in pristopi.\n 	Čustvo
 vanje in čustvena regulacija.\n 	Vzpostavljanje stika in posebnosti v nav
 ezovanju.\n 	Razumevanje družinske dinamike in podpora različnim deležn
 ikom.\n 	Značilnosti avtizma pri dekletih – prepoznavanje in podpora.\n
  	Podpora pri šolanju\, zaposlitvi ter iskanju smisla in identitete.\n\nT
 eoretična znanja bodo obogatena s konkretnimi metodami\, tehnikami in vaj
 ami\, ki bodo potekale individualno ali v majhnih skupinah.\n\nStruktura u
 sposabljanja\n\nUsposabljanje bo potekalo v majhni skupini\, kar omogoča 
 večjo interakcijo in individualiziran pristop. Vsako srečanje bo sestavl
 jeno iz treh delov:\n\n 	2 uri teorije – Ključni koncepti\, znanstvena 
 dognanja in praktični primeri.\n 	1 ura vaj – Praktične strategije\, a
 naliza primerov\, izkustveno učenje.\n 	1 ura supervizije – Refleksija 
 in strokovna podpora pri obravnavi lastnih primerov.\n\nSupervizijski del 
 omogoča poglobljeno obravnavo konkretnih primerov iz prakse udeležencev\
 , zato je priporočljivo\, da se usposabljanja udeležijo strokovnjaki\, k
 i že delajo z osebami na spektru avtizma.\n\nPodrobnosti usposabljanja\n\
 n 	Trajanje: 10 srečanj (september 2025 – junij 2026)\n 	Termin: Vsak t
 retji četrtek v mesecu\, od 16.30 do 20.00\n 	Lokacija: Ljubljanska cesta
  64\, 1230 Domžale\n 	Izvajalka: Nevenka Nakrst\, psihologinja\, psihoter
 apevtka in supervizorka\n 	Gostujoči predavatelji: Strokovnjaki s področ
 ja avtizma\n\nKotizacija in prijava\n\nEARLY BIRD CENA (plačilo do 30. 6.
  2025): 800 €\nRedna cena: 1000 € z možnostjo plačila v dveh obrokih
 :\n\n 	500 € (do 31. 8. 2025)\n 	500 € (do 31. 12. 2025)\n\nRezervacij
 a mesta:\nSvoje mesto na usposabljanju si zagotovite z nakazilom 200 € n
 a TRR: SI56 6100 0002 4243 460\n\n&nbsp\;\n\nDodatne informacije in prijav
 e: info@aleana.si\n\nPrijave sprejemamo do zapolnitve mest. V primeru prem
 ajhnega števila prijav vam vrnemo plačano kotizacijo. V primeru odjave s
  strani udeleženca vračilo kotizacije ni mogoče.\n\n\n\n\n&nbsp\;\n\n\n
ATTACH;FMTTYPE=image/jpeg:https://www.sloventa.si/wp-content/uploads/2024/
 09/Sloventa-5.jpg
CATEGORIES:Delavnice
END:VEVENT
BEGIN:VTIMEZONE
TZID:Europe/Ljubljana
X-LIC-LOCATION:Europe/Ljubljana
BEGIN:DAYLIGHT
DTSTART:20250330T030000
TZOFFSETFROM:+0100
TZOFFSETTO:+0200
TZNAME:CEST
END:DAYLIGHT
END:VTIMEZONE
END:VCALENDAR