BEGIN:VCALENDAR
VERSION:2.0
PRODID:-//wp-events-plugin.com//7.2.3//EN
TZID:Europe/Ljubljana
X-WR-TIMEZONE:Europe/Ljubljana
BEGIN:VEVENT
UID:7@sloventa.si
DTSTART;TZID=Europe/Ljubljana;VALUE=DATE:20250301
DTEND;TZID=Europe/Ljubljana;VALUE=DATE:20250302
DTSTAMP:20250217T122612Z
URL:https://www.sloventa.si/dogodki/potrdilo-ii-stopnje-rok-za-oddajo-vlog
 /
SUMMARY:Potrdilo II.stopnje - rok za oddajo vlog
DESCRIPTION:&nbsp\;\n\nRok za oddajo Vloge za potrdilo o zaključeni II. st
 opnji izobraževanja iz transakcijske analize je 1. 3. 2025.\n\nPotrdilo I
 I.stopnje\n\n&nbsp\;\n\nPriloge in obrazci:\n\nOpis pogojev\n\nVloga za pr
 idobitev Potrdila II stopnje\n\nPriloga k vlogi_Priporočilo mentorja\n\nK
 omisija bo obravnavala vloge\, ki bodo prispele pravočasno.\n\n&nbsp\;
ATTACH;FMTTYPE=image/jpeg:https://www.sloventa.si/wp-content/uploads/2024/
 09/Sloventa-8.jpg
END:VEVENT
BEGIN:VTIMEZONE
TZID:Europe/Ljubljana
X-LIC-LOCATION:Europe/Ljubljana
BEGIN:STANDARD
DTSTART:20241027T020000
TZOFFSETFROM:+0200
TZOFFSETTO:+0100
TZNAME:CET
END:STANDARD
END:VTIMEZONE
END:VCALENDAR