BEGIN:VCALENDAR
VERSION:2.0
PRODID:-//wp-events-plugin.com//7.2.3//EN
TZID:Europe/Ljubljana
X-WR-TIMEZONE:Europe/Ljubljana
BEGIN:VEVENT
UID:26@sloventa.si
DTSTART;TZID=Europe/Ljubljana:20260321T100000
DTEND;TZID=Europe/Ljubljana:20260321T180000
DTSTAMP:20260212T093936Z
URL:https://www.sloventa.si/dogodki/psihologija-zivljenjskih-ciklov-znacil
 nosti-in-izzivi-razlicnih-zivljenjskih-faz/
SUMMARY:PSIHOLOGIJA ŽIVLJENJSKIH CIKLOV - značilnosti in izzivi različni
 h življenjskih faz
DESCRIPTION:Spoštovani\,\nvabimo vas na nov štiridelni modul psihodramski
 h TA delavnic "PSIHOLOGIJA ŽIVLJENJSKIH CIKLOV - značilnosti in izzivi 
 različnih življenjskih faz"\, ki ga bosta izvajali mag. Ivana Mandarić 
 in dr. Lidija Vasiljević.\n\nPrva delavnica "Otroštvo - potenciali nove
 ga" bo potekala na prvi dan pomladi\, 21. 3. 2026.\n\nPoudarek bo na delu
  z ego stanjem Otrok.\n\nVsi udeleženci dobijo potrdilo o opravljenih 8h
  dela na sebi v skupini.\n\nPreostale informacije najdete na povezavi: Ps
 ihologija življenjskih ciklov.\n\nVsake delavnice se lahko udeležite pos
 ebej. V primeru\, da se odločite za sodelovanje na vseh štirih delavnica
 h\, prejmete 15% popust ob enkratnem plačilu.\n\n&nbsp\;\n\nPrijazen po
 zdrav.\n\nmag. Ivana Mandarić\, PTSTA-P
ATTACH;FMTTYPE=image/jpeg:https://www.sloventa.si/wp-content/uploads/2024/
 09/Sloventa-7.jpg
CATEGORIES:Delavnice
END:VEVENT
BEGIN:VTIMEZONE
TZID:Europe/Ljubljana
X-LIC-LOCATION:Europe/Ljubljana
BEGIN:STANDARD
DTSTART:20251026T020000
TZOFFSETFROM:+0200
TZOFFSETTO:+0100
TZNAME:CET
END:STANDARD
END:VTIMEZONE
END:VCALENDAR