BEGIN:VCALENDAR
VERSION:2.0
PRODID:-//wp-events-plugin.com//7.2.3//EN
TZID:Europe/Ljubljana
X-WR-TIMEZONE:Europe/Ljubljana
BEGIN:VEVENT
UID:21@sloventa.si
DTSTART;TZID=Europe/Ljubljana:20251128T163000
DTEND;TZID=Europe/Ljubljana:20251129T130000
DTSTAMP:20251008T104833Z
URL:https://www.sloventa.si/dogodki/psiholoske-igre-v-organizacijah/
SUMMARY:Delavnica Psihološke igre v organizacijah
DESCRIPTION:Spoštovani.\n\nDruštvo Sloventa vas vabi na letošnjo drugo d
 elavnico s področja organizacijske TA (TA-O)\, z naslovom:\n\nPSIHOLOŠKE
  IGRE V ORGANIZACIJAH.\n\nSte se kdaj vprašali\, zakaj se določeni vzorc
 i komunikacije in delovanja v organizacijah ponavljajo – četudi jih vsi
  prepoznamo kot neučinkovite? Transakcijska analiza nam ponuja močno oro
 dje za razumevanje teh vzorcev – razumevanje psiholoških iger v organiz
 acijah. Dramski trikotnik se v organizaciji razširi z dodatnimi vlogami. 
 Sistemski vidik\, ki ga v organizacijski psihologiji upoštevamo\, nam da 
 nove uvide.\n\nNa delavnici bomo raziskali:\n\nKaj so psihološke igre in 
 zakaj nastajajo\,\nkako vplivajo na odnose\, motivacijo in rezultate v tim
 ih\,\nkakšen je model psiholoških iger v organizacijah\,\nkatere so najp
 ogostejše igre v organizacijah\nkako jih prepoznamo in predvsem\, kako ji
 h prekiniti.\nPrikazali bomo osnovne teoretske temelje psiholoških iger v
  organizacijah\, jih ilustrirali s praktičnimi primeri ter delili izkušn
 je iz prakse.\n\n&nbsp\;\n\nDelavnica je namenjena transakcijskim analitik
 om\, ki delajo s skupinami\, HR strokovnjakom in HR managerjem\, vodjem\, 
 podjetnikom\, lastnikom podjetij in vsem\, ki želijo izboljšati kakovost
  odnosov in učinkovitost skupin in organizacij ter graditi bolj zdravo or
 ganizacijsko kulturo in klimo.\n\n&nbsp\;\n\nDelavnica bo potekala v M Hot
 elu\, in sicer v petek\, 28. in v soboto\, 29. novembra 2025.\n\n&nbsp\;\n
 \nUrnik:\n\nPetek\, 28.11.:\n\n- od 16.30 do 19.00\n\nSobota\, 29.11.:\n\n
 - od 8:30 do 10:00\n\nOdmor 15 min\n\n- 10:15 – 11:45\n\nOdmor 15 min\n\
 n- 12:00 – 13:00\n\n&nbsp\;\n\nO izvajalki delavnice:\n\nmag. Ana Šušt
 eršič\, univ. dipl. psih.\, CTA-O (certificirana transakcijska analitič
 arka za področje organizacij)\, registrirana EuroPsy psihologinja. Ustano
 viteljica podjetja Talents Management Institute d.o.o.\, lastnica privatne
  psihološke prakse.\n\nPodiplomski študij managementa je zaključila na 
 Swinburne University of Techology v Melbournu v Avstraliji in na Ekonomski
  fakulteti v Ljubljani. Je certificirana transakcijska analitičarka s pod
 ročja organizacij\, specializantka transakcijske analize s področja eduk
 acije in psihoterapije\, NLP learning Coachinja (certifikat INLPTA\, Inšt
 itut ILE Nemčija)\, certificirana svetovalka v organizacijah (Inštitut I
 nitial\, Nemčija)\, Cerftificirana za uporabo tehnike EMDR (dr. Roger Sol
 omon)\, trenerka Umetnosti inoviranja in soustanoviteljica 12 dejavnikov i
 noviranja\, Certificirana SDI trenerka 1. in 2. stopnje\, Certificirani vo
 dja trajnostnega razvoja in certificirana za optimizacijo procesov v organ
 izacijah\, Certificirani timski coach (Intact Academy\, ICF certificirani 
 program)\, Certificirana hipnoterapevtka (Richard Bandler\, ZDA). Ana je v
  stalnem procesu usposabljanja s svojimi mentorji in supervizorji v tujini
  pa tudi v Sloveniji. Že 30 let dela v gospodarstvu\, zadnjih 15 let na p
 odročju razvoja kadrov. Delala je na vodstvenih delovnih mestih v medijih
 \, prodaji in marketingu. Zadnja leta je primarno osredotočena na svetova
 nje organizacijam\, usposabljanja in coaching vodij z namenom povečanja u
 činkovitosti delovanja organizacije.\n\n\n\nKOTIZACIJA:\n\nza članice in
  člane: 180\,00 EUR\n\nza nečlanice in nečlane: 210\,00 EUR\n\nPRIJAVA:
  Na spletni seminar se prijavite prek prijavnice in s plačilom kotizacij
 e.\n\n&nbsp\;\n\nPodatki za plačilo kotizacije: IBAN: SI56 0201 0009 2460
  657\, BIC banke (SWIFT): LJBASI2X\, koda namena: OTHR\, namen plačila: k
 otizacija za Ime in Priimek – delavnica TA-O\, referenca: SI 00 2025\nPr
 ejemnik: Društvo Sloventa\, Bratovševa ploščad 2\, 1000\, Ljubljana\n\
 n&nbsp\;\n\nDodatne informacije:\n\nPsihološke igre v organizacijah\n\nZa
  vsa vprašanja in informacije pišite na elektronski naslov obvestila@slo
 venta.si.
ATTACH;FMTTYPE=image/jpeg:https://www.sloventa.si/wp-content/uploads/2025/
 10/TA-O_naslovnica.jpg
CATEGORIES:Delavnice
END:VEVENT
BEGIN:VTIMEZONE
TZID:Europe/Ljubljana
X-LIC-LOCATION:Europe/Ljubljana
BEGIN:STANDARD
DTSTART:20251026T020000
TZOFFSETFROM:+0200
TZOFFSETTO:+0100
TZNAME:CET
END:STANDARD
END:VTIMEZONE
END:VCALENDAR