BEGIN:VCALENDAR
VERSION:2.0
PRODID:-//wp-events-plugin.com//7.2.3//EN
TZID:Europe/Ljubljana
X-WR-TIMEZONE:Europe/Ljubljana
BEGIN:VEVENT
UID:29@sloventa.si
DTSTART;TZID=Europe/Ljubljana:20260505T180000
DTEND;TZID=Europe/Ljubljana:20260505T201500
DTSTAMP:20260319T103154Z
URL:https://www.sloventa.si/dogodki/socutje-do-sebe-za-psihoterapevte-svet
 ovalce-in-kliente/
SUMMARY:SOČUTJE DO SEBE– za psihoterapevte\, svetovalce in kliente
DESCRIPTION:MEDIUS - Inštitut za čuječnost\, izobraževanje in svetovanj
 e \n\nvas vabi na 8 – tedensko izkustveno izobraževanje\n\nSOČUTJE 
 – po znanstveno priznani metodi MBCL\n\n5. 5. – 23. 6. 2026\n\n&nbsp\;
 \n\nNa čuječnosti in sočutju temelječe metode in tehnike se zadnja let
 a vse bolj vključujejo v pristope psihoterapije in svetovanja.\n\nTo izob
 raževanje je posebej primerno in praktično nujno potrebno za vse\, ki de
 lujemo v poklicih pomoči in podpore (psihoterapevti\, svetovalci\, psihol
 ogi\, zdravstveni delavci\, socialni delavci\, pedagogi\, delovni terapevt
 i\, vzgojitelji\, coachi in podobno)\, za druge strokovnjake\, ki delajo z
  ljudmi\, ter vse\, ki želijo osvojiti na čuječnosti temelječe tehnike
  sočutja do sebe in drugih.\n\nZa vse\, ki že imate izkušnje z osnovno 
 prakso čuječnosti je to priložnost za nadaljevalno prakso\, s poudarkom
  na sočutju. Poudarek je na spoznavanju osnovnih konceptov MBCL in predvs
 em na izkustvenih tehnikah\, vajah\, osebni izkušnji in praktični uporab
 i.\n\nV jeziku transakcijske analize je to izobraževanje za tiste\, ki ž
 elite krepiti svojega negujočega starša.\n\nMBCL »Mindfulness-Based Com
 passionate Living« sta razvila dr. Erik van den Brink (psihiater in psiho
 terapevt) in Frits Koster (bivši budistični menih\, zdravstveni delavec)
  na Centru za integrativno psihiatrijo. Mednarodno priznan program bazira 
 na znanstvenem razumevanju pomembnosti in pozitivnih učinkov sočutja na 
 podlagi različnih kliničnih študij.\n\nV tujini je MBCL že razširjen 
 v zdravstvu (za zdravstvene delavce\, terapevte\, kliente)\, izobraževanj
 u\, delovnem okolju\, na področju svetovanja\, skrbi zase in povsod\, kje
 r se ljudje želijo naučiti metod za lajšanje stresa\, bolečine in trpl
 jenja ter živeti bolj zdravo in zadovoljno življenje.\n\nNedavne študij
 e so dokazale\, da ima razvoj sočutja ključno vlogo pri podpiranju duše
 vnega in fizičnega zdravja.\n\n&nbsp\;\n\nCILJI PROGRAMA:\n\nPreko izkust
 venega pristopa boste osvojili tehnike in veščine za zdravo ravnovesje m
 ed skrbjo za druge in skrbjo zase\, za razvijanje sočutja do sebe in drug
 ih\, za zmanjšanje utrujenosti zaradi empatije pri delu\, poklicno učink
 ovitost in soočanje s stresom\, tudi kako se spoprijeti s težnjo po samo
 kritičnosti in zahtevnimi življenjskimi situacijami.\n\n&nbsp\;\n\nPROGR
 AM VKLJUČUJE:\n\n 	 30 izkustvenih vaj in tehnik\, ki spodbujajo čuječo
  prisotnost\, zavedanje\, fiziološko in čustveno regulacijo\, notranje r
 avnovesje\, sočutje do sebe in skrb zase\,\n 	praktične delovne izročke
  za vadbo in refleksijo\,\n 	poglobljeno teorijo\,\n 	posamezniku prilagoj
 ena navodila\,\n 	čuječo komunikacijo v skupini\,\n 	vaje čuječega dia
 loga v parih\,\n 	raziskovanje vzorcev našega ravnanja\, razmišljanja\, 
 čustvovanja in delovanja\,\n 	zvočne posnetke za formalne vaje\,\n 	napo
 tke za domačo prakso.\n\n&nbsp\;\n\nVeč informacij na: https://www.insti
 tut-medius.si/mbcl-zavestno-socutje/\n\nhttps://www.institut-medius.si/mbc
 l-zavestno-socutje/8-tedenski-mbcl-program-razvijanja-socutja/?iframe=true
 \n\n&nbsp\;\n\nKJE IN KDAJ: \n\nMEDIUS - Inštitut za čuječnost\, izobr
 aževanje in svetovanje\, Litijska cesta 150\, 1000 Ljubljana (možno tudi
  online ZOOM)\n\n8 tednov: 5. 5. - 23. 6. 2026\, vsak torek\, 18:00 - 20:1
 5 + 1 sobotna delavnica 13.6.2026\n\n \n\nPOTRDILO:\nVsi udeleženci dobi
 jo potrdilo o opravljenem izobraževanju.\n\nKOTIZACIJA: 600 EUR – za te
 rapevte\, svetovalce… specializante\, 300 EUR – za kliente\n\nTečaj b
 o vodila mag. Mateja Lenarčič\, mednarodno certificirana učiteljica č
 uječnosti po metodah MBSR in MBCL\, transakcijska analitičarka - svetova
 lka\, trenerka\, predavateljica\, več o njej na: https://www.institut-med
 ius.si/o-nas/\n\n&nbsp\;\n\nDruga izobraževanja INŠTITUTA MEDIUS: https:
 //www.institut-medius.si/aktualni-dogodki/\n\nVEČ INFORMACIJ IN PRIJAVE N
 A: info@institut-medius.si ali https://www.institut-medius.si/kontakt/
ATTACH;FMTTYPE=image/jpeg:https://www.sloventa.si/wp-content/uploads/2026/
 03/MBCL-zavestno-socutje-FB1.jpg
CATEGORIES:Delavnice
END:VEVENT
BEGIN:VTIMEZONE
TZID:Europe/Ljubljana
X-LIC-LOCATION:Europe/Ljubljana
BEGIN:DAYLIGHT
DTSTART:20260329T030000
TZOFFSETFROM:+0100
TZOFFSETTO:+0200
TZNAME:CEST
END:DAYLIGHT
END:VTIMEZONE
END:VCALENDAR