BEGIN:VCALENDAR
VERSION:2.0
PRODID:-//wp-events-plugin.com//7.2.3//EN
TZID:Europe/Ljubljana
X-WR-TIMEZONE:Europe/Ljubljana
BEGIN:VEVENT
UID:8@sloventa.si
DTSTART;TZID=Europe/Ljubljana:20250324T170000
DTEND;TZID=Europe/Ljubljana:20250324T190000
DTSTAMP:20250302T200550Z
URL:https://www.sloventa.si/dogodki/spletna-delavnica-psihiatricne-motnje-
 in-sodelovanje-s-psihiatrom/
SUMMARY:Spletna delavnica "Psihiatrične motnje in sodelovanje s psihiatri"
DESCRIPTION:Lepo vabljeni na spletno delavnico "Psihiatrične motnje in sod
 elovanje s psihiatri" 24. marca 2025 ob 17:00.\n\nDuševne motnje potrebu
 jejo različne načine zdravljenja. V hujših primerih duševnih stisk so 
 zdravila pomembna ali celo nujna oblika zdravljenja. Na predavanju bo Nata
 ša Sedmak razložila kdaj in kako zdravniki sprejmejo odločitev\, da pre
 dpišejo zdravila in katera ter nam predstavila najpogostejša psihiatrič
 na zdravila ter njihove stranske učinke.\nPsihoterapevti se pri svojem de
 lu srečujemo z dvomi in vprašanji o psihiatričnem zdravljenju in uporab
 i zdravil. Na seminarju bo prostor za konkretna vprašanja udeležencev in
  diskusijo.\n\nIzvajalka: Nataša Sedmak\, dr. med. Spec. psihiatrije\, je
  delala kot psihiatrinja v zdravstvenem domu Sežana\, kamor so prihajali 
 pacienti z različnimi psihiatričnimi boleznimi in motnjami. Poleg tega j
 e v zdravstvenem domu vodila center za zdravljenje odvisnosti od alkohola 
 in prepovedanih drog. Preden bi svojo profesionalno pot nadaljevala\, pa j
 e 10 let delala v splošni ambulanti. Njeno delo in izkušnje so ji prines
 li široko znanje o psihiatričnih boleznih\, ki ga je dopolnjevala z znan
 jem iz splošne medicine. To ji je omogočalo širši in bolj celosten pog
 led na paciente in na njihovo zdravljenje.\n\nKotizacija:\n\nza člane_ice
  društva Sloventa – brezplačno\;\n\nza ne člane_ice društva – 30 E
 UR.\nPrijavnica\nSe vidimo!\nSLOVENTA
ATTACH;FMTTYPE=image/jpeg:https://www.sloventa.si/wp-content/uploads/2025/
 03/Webinar-NS.jpg
CATEGORIES:Delavnice
END:VEVENT
BEGIN:VTIMEZONE
TZID:Europe/Ljubljana
X-LIC-LOCATION:Europe/Ljubljana
BEGIN:STANDARD
DTSTART:20241027T020000
TZOFFSETFROM:+0200
TZOFFSETTO:+0100
TZNAME:CET
END:STANDARD
END:VTIMEZONE
END:VCALENDAR