BEGIN:VCALENDAR
VERSION:2.0
PRODID:-//wp-events-plugin.com//7.2.3//EN
TZID:Europe/Ljubljana
X-WR-TIMEZONE:Europe/Ljubljana
BEGIN:VEVENT
UID:28@sloventa.si
DTSTART;TZID=Europe/Ljubljana:20260330T170000
DTEND;TZID=Europe/Ljubljana:20260330T190000
DTSTAMP:20260309T164455Z
URL:https://www.sloventa.si/dogodki/spletni-seminar-kaj-je-potrebno-za-usp
 esen-odnos/
SUMMARY:Spletni seminar Kaj je potrebno za uspešen odnos?
DESCRIPTION:Spoštovani.\nDruštvo Sloventa vas vabi na spletni seminar\nKA
 J JE POTREBNO ZA USPEŠEN ODNOS\nv izvedbi dr. Sari van Poelje.\nSpletni s
 eminar bo potekal v ponedeljek\, 30. 3. 2026\, med 17.00 in 19.00\, prek a
 plikacije Zoom.\n\nPredavanje bo v angleškem jeziku brez prevoda.\n\n&nbs
 p\;\n\n»Za nesrečen odnos je dovolj eden. Za srečnega sta potrebna oba.
 «\n\nNajčistejša oblika ljubezni je svoboda\, da nekomu daš vse\, kar 
 si želiš\, ter svoboda druge osebe\, da se odloči\, ali bo to sprejela 
 ali ne. Ponovna vzpostavitev kapacitete intimnosti je eden glavnih ciljev 
 v TA.\nKljub temu se ljudje v odnosih zataknejo. Včasih jim to prinese no
 ve perspektive\, včasih pa le potrdi stare vzorce. Pet načinov ohranjanj
 a negativnih vzorcev je: redefiniranje\, simbioza\, reketi\, discounting i
 n igre.\nVemo tudi\, da obstaja sedem načel\, ki pomagajo ponovno pridobi
 ti sposobnost intimnosti v odnosu. Na koncu bo predavateljica delila nekaj
  praktičnih orodij za uporabo v vsakdanjem življenju.\n\n&nbsp\;\n\nO iz
 vajalki\n\nDr. Sari van Poelje je mednarodna in izvršna svetovalka ter tr
 enerka. Je generalna direktorica podjetja INTACT za mednarodna usposabljan
 ja\, coachinge in svetovanja. S pisarnami v Budimpešti in Göteborgu ter 
 pridruženimi pisarnami v Antwerpnu\, Milanu\, Lyonu in Parizu podjetjem p
 onuja izvršni coaching\, svetovanje o upravljanju in programe usposabljan
 ja za trenerje\, svetovalce in vodje. Sari ima 40 let izkušenj s coaching
 om in svetovanjem menedžerjem in direktorjem v multinacionalnem poslovnem
  okolju. 20 let je opravljala višje vodstvene vloge v različnih mednarod
 nih korporacijah\, kot so KLM\, EMI music\, ASML in Shell. Je licencirana 
 učiteljica in supervizorka transakcijske analize\, PCM trenerka\, akredit
 irana pri NOBCO-EMCC kot glavna svetovalka\, glavna sistemska timska coach
 inja\, glavna supervizorka\, trenutno pa v procesu pridobivanja akreditaci
 je EMCC za coachinjo. Objavila je 32 člankov in 5 knjig ovodenju\, coachi
 ngu in organizacijskih premembah. Za več informacij obiščite: www.intac
 tacademy.com in www.teamagility.com\n\nKOTIZACIJA:\n\n- brez kotizacije za
  udeležence Strokovnega srečanja Sloventa 2026 (30. in 31. 1. 2026)\n- z
 a članice_e: 20\,00 EUR\n- za nečlanice_e: 30\,00 EUR\n\nPRIJAVA: Na spl
 etni seminar se prijavite prek prijavnice (in s plačilom kotizacije).\n\n
 Podatki za plačilo kotizacije: IBAN: SI56 0201 0009 2460 657\, BIC banke 
 (SWIFT): LJBASI2X\, koda namena: OTHR\, namen plačila: kotizacija za Ime 
 in Priimek – seminar Kaj je potrebno za uspešen odnos\, referenca: SI 0
 0 2026\nPrejemnik: Društvo Sloventa\, Bratovševa ploščad 2\, 1000\, Lj
 ubljana\n\nZa vsa dodatna vprašanja pišite na elektronski naslov seminar
 ji@sloventa.si
ATTACH;FMTTYPE=image/jpeg:https://www.sloventa.si/wp-content/uploads/2024/
 09/Sloventa-3.jpg
CATEGORIES:Seminarji
END:VEVENT
BEGIN:VTIMEZONE
TZID:Europe/Ljubljana
X-LIC-LOCATION:Europe/Ljubljana
BEGIN:DAYLIGHT
DTSTART:20260329T030000
TZOFFSETFROM:+0100
TZOFFSETTO:+0200
TZNAME:CEST
END:DAYLIGHT
END:VTIMEZONE
END:VCALENDAR