BEGIN:VCALENDAR
VERSION:2.0
PRODID:-//wp-events-plugin.com//7.2.3//EN
TZID:Europe/Ljubljana
X-WR-TIMEZONE:Europe/Ljubljana
BEGIN:VEVENT
UID:20@sloventa.si
DTSTART;TZID=Europe/Ljubljana:20251113T170000
DTEND;TZID=Europe/Ljubljana:20251113T200000
DTSTAMP:20251107T062745Z
URL:https://www.sloventa.si/dogodki/spletni-seminar-senzorna-integracija-i
 n-psihoterapija/
SUMMARY:Spletni seminar Senzorna integracija in psihoterapija
DESCRIPTION:Spoštovani.\n\nVabimo vas na spletni seminar\n\nSENZORNA INTEG
 RACIJA IN PSIHOTERAPIJA\n\nv izvedbi Nevenke Gričar in Maje Koren Kocjan
 čič.\n\nSpletni seminar bo potekal v četrtek\, 13. 11. 2025\, med 17.00
  in 20.00\, prek aplikacije Zoom.\n\n&nbsp\;\n\nDa lahko delujemo in sodel
 ujemo v svetu\, ki nas obkroža\,  moramo uporabljati svoje čute.  Le t
 i nam omogočajo edinstvene izkušnje in interakcijo z družbo ter vklju
 čitev vanjo. Pomagajo nam razumeti  okolje  okoli  nas\, se  odzivati
   nanj  ter imajo pomembno vlogo pri odločanju za dejanja v določeni s
 ituaciji.\n\nSenzorna integracija je nezaveden proces v možganih\, v kate
 rem oseba prepozna\, organizira\, interpretira in uravnava občutke iz svo
 jega telesa in okolice tako\, da lahko učinkovito deluje v okolju.\n\nNek
 ateri otroci in kasneje tudi odrasli lahko preveč ali premalo reagirajo n
 a senzorne dražljaje. Eden ali več čutov se lahko izostri ali sploh ne 
 delujejo. Oseba je lahko hkrati preveč občutljiva in premalo občutljiva
  za nek dražljaj\, (npr. njeno delovanje zmoti vsak najmanjši šum\, gla
 sbo pa posluša zelo na glas).\n\nVsakodnevne  funkcije\,  ki  se veči
 ni ljudi zdijo samoumevne\, so zanje negativne in neprijetne izkušnje. Nj
 ihovo vedenje je pogosto neposredni odziv na čutno izkušnjo\, zato si us
 tvarjajo različne preživetvene strategije\, ki jim dajejo občutek varno
 sti v svetu\, ki ga s čuti doživljajo na svojstven način. V takšnih si
 tuacijah se pogosto pojavi težava z uravnavanjem čustev.\n\nČe je oseba
  preobčutljiva na dražljaje (hrup\, dotik\, svetloba)\, lahko to sproži
  jezo\, anksioznost in frustracijo. Če je oseba premalo odzivna na dražl
 jaje\, kar pomeni\, da ne zazna bolečine in ima slabšo pozornost\, se la
 hko to kaže kot apatičnost\, umik ali impulzivnost.\n\nSenzorna integrac
 ija je pristop\, ki temelji na teoriji dr. A. Jean Ayres\, delovne terapev
 tke in psihologinje. Teorija senzorne integracije opisuje\, kako nevrološ
 ki proces procesiranja in integriranja senzornih informacij iz telesa in o
 kolja prispeva k čustveni regulaciji\, učenju\, vedenju in vključevanju
  v vsakodnevno življenje.\n\nMotnja senzorne integracije lahko močno vpl
 iva na čustveno uravnavanje\, zato je smiselna timska podpora.\n\nDelovna
  terapija in psihoterapija imata veliko skupnega in lahko z dopolnjevanjem
  pri terapevtskem delu omogočata posameznikom\, da kljub določenim omeji
 tvam zaživijo samostojno in zadovoljujoče življenje. Zavzemata se za ce
 losten pogled na človeka in ga vidita v kontekstu telesa\, psihe\, okolja
  in družbe. Kot zelo uspešno se je izkazalo timsko sodelovanje pri otroc
 ih\, mladostnikih in odraslih z nevrološkimi boleznimi\, motnjami avtisti
 čnega spektra\, ADHD\, čustveno vedenjskimi težavami in drugimi težava
 mi v duševnem zdravju.\n\nDelovni terapevti lahko posameznike uči rabe s
 enzornih pripomočkov in strategij\, ki jim pomagajo pri senzorni regulaci
 ji ter nudijo terapijo senzorne integracije\, psihoterapevti pa jih podpre
 jo pri prepoznavanju\, razumevanju in izražanju čustev\, pri krepitvi sa
 mopodobe\, uporabi tehnik čuječnosti\, dihanja in telesnega zavedanja.\n
 \n&nbsp\;\n\nNa delavnici bomo raziskovali:\n\n 	teorijo senzorne integrac
 ije po dr. A. Jean Ayres\,\n 	posebnosti delovanja mladostnikov in mlajši
 h odraslih s težavami senzorne predelave na različnih področjih delovan
 ja – dnevne aktivnosti\, izobraževanje/delo\, spanje\, druženje\, pros
 ti čas\,\n 	primere iz terapevtske prakse skozi koncepte relacijske trans
 akcijsko analitične psihoterapije\,\n 	vprašanja in diskusijo.\n\n&nbsp\
 ;\n\nIzvajalki:\n\nmag. Nevenka Gričar je profesorica defektologije za MV
 O in diplomirana delovna terapevtka\, zadnjih 20 let je zaposlena na Zdrav
 stveni fakulteti kot višja predavateljica na visokošolskem študijskem p
 rogramu Delovna terapija. Ves čas svojega službovanja pridobiva različn
 a znanja\, najbolj poglobljeno in zavzeto pa jo zanima področje senzorne 
 integracije.\n\nLeta 2012 je v VB pridobila naziv »Advanced Sensory Integ
 ration Practitioner\,« kar ji dovoljuje izvajanje delovne terapije po pri
 stopu senzorne integracije po Ayresovi (ASI). Delovno terapevtske obravnav
 e izvaja v zasebni praksi.\n\nTrenutno opravlja raziskavo v okviru doktors
 ke disertacije z naslovom Model težav s senzorno odzivnostjo pri mladih z
  motnjo avtističnega spektra.\n\nMaja Koren Kocjančič\, univ. dipl. soc
 . delavka\, certifcirana psihoterapevtka transakcijsko analitične psihote
 rapije (CTA-P)\, supervizorka z licenco Socialne zbornice Slovenije. Po ve
 č letih dela na področju duševnega zdravja v socialnem varstvu od leta 
 2014 deluje v zasebni psihoterapevtski praksi. Njena glavna dejavnost je n
 udenje individualne psihoterapije in svetovanja po načelih transakcijske 
 analize\, izvaja pa tudi treninge asertivnosti in supervizijo na področju
  psihoterapije in zdravstva.\n\nV zadnjih letih je njen glavni fokus izobr
 aževanja in raziskovanja posvečen temi nevrorazličnosti\, natančneje a
 vtizma in senzorne občutljivosti pri dekletih in ženskah.\n\n&nbsp\;\n\n
 Kotizacija:\n- za članice_e: 30\,00 EUR\n- za nečlanice_e: 45\,00 EUR\n\
 nPRIJAVA: Na spletni seminar se prijavite prek prijavnice in s plačilom 
 kotizacije.\n\nPodatki za plačilo kotizacije: IBAN: SI56 0201 0009 2460 6
 57\, BIC banke (SWIFT): LJBASI2X\, koda namena: OTHR\, namen plačila: kot
 izacija za Ime in Priimek – seminar Senzorna integracija\, referenca: SI
  00 2025\nPrejemnik: Društvo Sloventa\, Bratovševa ploščad 2\, 1000\, 
 Ljubljana\n\nSenzorna integracija in psihoterapija\n\nZa vsa dodatna vpra
 šanja pišite na elektronski naslov seminarji@sloventa.si 
ATTACH;FMTTYPE=image/jpeg:https://www.sloventa.si/wp-content/uploads/2025/
 09/Webinar-SIoventa.jpg
CATEGORIES:Seminarji
END:VEVENT
BEGIN:VTIMEZONE
TZID:Europe/Ljubljana
X-LIC-LOCATION:Europe/Ljubljana
BEGIN:STANDARD
DTSTART:20251026T020000
TZOFFSETFROM:+0200
TZOFFSETTO:+0100
TZNAME:CET
END:STANDARD
END:VTIMEZONE
END:VCALENDAR