BEGIN:VCALENDAR
VERSION:2.0
PRODID:-//wp-events-plugin.com//7.2.3//EN
TZID:Europe/Ljubljana
X-WR-TIMEZONE:Europe/Ljubljana
BEGIN:VEVENT
UID:11@sloventa.si
DTSTART;TZID=Europe/Ljubljana;VALUE=DATE:20231015
DTEND;TZID=Europe/Ljubljana;VALUE=DATE:20231016
DTSTAMP:20250318T121200Z
URL:https://www.sloventa.si/dogodki/strokovno-srecanje-drustva-sloventa-v-
 2024-vabilo-k-aktivni-udelezbi/
SUMMARY:Strokovno srečanje društva Sloventa v 2024. Vabilo k aktivni udel
 ežbi.
DESCRIPTION:Spoštovane članice in člani\,\n\n10. Strokovno srečanje dru
 štva Sloventa bo potekalo 2. in 3. februarja  2024\, v M Hotelu v Lju
 bljani. Letošnja naslovna tema je “TA in telo”.\n\nPredstavitev vseb
 inskega okvirja letošnjega srečanja si lahko preberete v dokumentu spoda
 j.\n\nZ navdušenjem vas vabimo k aktivnemu oblikovanju našega skupnega d
 ogodka\, ki ponuja številne priložnosti za deljenje strokovnih znanj\, i
 zkušenj in raziskovanj\, tako s psihoterapevtskega\, kot tudi z drugih po
 dročij dela v povezavi z naslovno temo.\n\nVabimo vas\, da nam pošljete
  predstavitve svojih delavnic in/ali drugih prispevkov\, s katerimi želi
 te sodelovati in z njimi obogatiti program 10. Strokovnega srečanja druš
 tva Sloventa.\n\nStrokovna srečanja so dragocena priložnost za širitev
  naše psihoterapevtske skupnosti\, ki raste in se razvija z vsakim tovrst
 nim skupnim druženjem. Prav tako pa je to priložnost za strokovno in ose
 bnostno bogatenje.\n\nSrčno upamo\, da se boste odzvali našemu vabilu in
  skupaj z nami ustvarili še en uspešen strokovni dogodek.\n\nPRIJAVNICA
  (.docx)\n\nRok za oddajo prijavnice je 15.10.2023.\n\nPrijavnico lahko 
 pošljete na elektronski naslov: obvestila@sloventa.si
ATTACH;FMTTYPE=image/jpeg:https://www.sloventa.si/wp-content/uploads/2023/
 12/SS2024_banner_.jpeg
CATEGORIES:Strokovna srečanja
END:VEVENT
BEGIN:VTIMEZONE
TZID:Europe/Ljubljana
X-LIC-LOCATION:Europe/Ljubljana
BEGIN:DAYLIGHT
DTSTART:20230326T030000
TZOFFSETFROM:+0100
TZOFFSETTO:+0200
TZNAME:CEST
END:DAYLIGHT
END:VTIMEZONE
END:VCALENDAR