BEGIN:VCALENDAR
VERSION:2.0
PRODID:-//wp-events-plugin.com//7.2.3//EN
TZID:Europe/Ljubljana
X-WR-TIMEZONE:Europe/Ljubljana
BEGIN:VEVENT
UID:10@sloventa.si
DTSTART;TZID=Europe/Ljubljana;VALUE=DATE:20221120
DTEND;TZID=Europe/Ljubljana;VALUE=DATE:20221121
DTSTAMP:20250318T120456Z
URL:https://www.sloventa.si/dogodki/strokovno-srecanje-slovente-2023-povab
 ilo-k-aktivni-udelezbi/
SUMMARY:Strokovno srečanje Slovente 2023 – povabilo k aktivni udeležbi
DESCRIPTION:Spoštovane članice\, spoštovani člani\,\n\n9. Strokovno sre
 čanje Slovente bo potekalo v Mestnem muzeju Ljubljana\, 21. in 22. 4. 202
 3.\nNaslovna tema srečanja je\, “Zgodbe naših prednikov: od omejujoč
 ih do zdravilnih vplivov”. \n\nPredstavitev vsebinske teme\, si lahko p
 reberete v predstavitvenem besedilu dogodka.\n\nVabimo vas k aktivnemu so
 oblikovanju našega skupnega dogodka\, ki ponuja številne priložnosti za
  deljenje strokovnih znanj\, izkušenj in raziskovanj tako s psihoterapevt
 skega kot z drugih področji dela\, v povezavi z naslovno temo.\n\nČasovn
 i okvir prispevkov:\ndelavnica (90 minut)\ndelavnica (180 minut)\npredavan
 je (90 minut)\npredstavitev raziskave (90 minut)\n\nVabimo vas\, da nam po
 šljete okvirne predstavitve svojih delavnic in drugih prispevkov\, s kate
 rimi se želite predstaviti in z njimi obogatiti program 9. Strokovnega sr
 ečanja Slovente.\n\nStrokovna srečanja Slovente so vsakoletna dragocena 
 priložnost za širitev naše TA in psihoterapevtske skupnosti\, ki raste 
 in se razvija z vsakim tovrstnim dogodkom. So tudi priložnost in možnost
  za strokovno in osebnostno bogatenje.\n\nZato upamo\, da se boste odzvali
  našemu vabilu in skupaj z nami ustvarili uspešen strokovni dogodek.\n\n
 Rok za oddajo prijavnice je 20.11.2022.\n\nSvoj prispevek prijavite tako\,
  da na e-naslov obvestila@sloventa.si\,\npošljete izpolnjeno prijavnico
 .\n\nVeselimo se srečanja in vas prijazno pozdravljamo\,\nOrganizacijski 
 odbor Slovente
ATTACH;FMTTYPE=image/jpeg:https://www.sloventa.si/wp-content/uploads/2023/
 04/SS2023.png
END:VEVENT
BEGIN:VTIMEZONE
TZID:Europe/Ljubljana
X-LIC-LOCATION:Europe/Ljubljana
BEGIN:STANDARD
DTSTART:20221030T020000
TZOFFSETFROM:+0200
TZOFFSETTO:+0100
TZNAME:CET
END:STANDARD
END:VTIMEZONE
END:VCALENDAR