BEGIN:VCALENDAR
VERSION:2.0
PRODID:-//wp-events-plugin.com//7.2.3//EN
TZID:Europe/Ljubljana
X-WR-TIMEZONE:Europe/Ljubljana
BEGIN:VEVENT
UID:33@sloventa.si
DTSTART;TZID=Europe/Ljubljana:20260509T080000
DTEND;TZID=Europe/Ljubljana:20260509T140000
DTSTAMP:20260419T143009Z
URL:https://www.sloventa.si/dogodki/supervizijski-maraton/
SUMMARY:Supervizijski maraton
DESCRIPTION:Vabljeni na supervizijski maraton!\n\nPridružite se skupinski 
 superviziji v varnem in podpornem okolju\, namenjenem poglabljanju razumev
 anja vašega dela ter strokovni rasti. Skupaj bomo raziskovali izzive iz p
 rakse\, delili izkušnje in možnosti za delo s klienti.\n\nKdaj: 9. maj 
 2026\, med 8.00 in 14.00\nKje: Gorenjska cesta 39\, 4202 Naklo\n\nSupervi
 zija je namenjena študentom\, psihoterapevtom in drugim strokovnjakom v p
 oklicih pomoči\, ki si želijo dodatne podpore in refleksije svojega dela
 .\n\nDobrodošle so vse teme\, povezane s psihoterapevtsko prakso – od p
 rvih srečanj s klienti do kompleksnejših procesov\, zastojev\, etičnih 
 vprašanj in priprave na CTA izpit.\n\nŠtevilo mest je omejeno\, zato vas
  vabimo k pravočasni prijavi.\n\nPrijave zbiramo na povezavi do 30. apr
 ila 2026.\n\nVeseliva se srečanja z vami\,\nTanja Kristi\, TSTA\nMaja Sed
 mak Cvelbar\, PTSTA
ATTACH;FMTTYPE=image/jpeg:https://www.sloventa.si/wp-content/uploads/2024/
 09/Sloventa-2.jpg
CATEGORIES:Delavnice
END:VEVENT
BEGIN:VTIMEZONE
TZID:Europe/Ljubljana
X-LIC-LOCATION:Europe/Ljubljana
BEGIN:DAYLIGHT
DTSTART:20260329T030000
TZOFFSETFROM:+0100
TZOFFSETTO:+0200
TZNAME:CEST
END:DAYLIGHT
END:VTIMEZONE
END:VCALENDAR