BEGIN:VCALENDAR
VERSION:2.0
PRODID:-//wp-events-plugin.com//7.2.3//EN
TZID:Europe/Ljubljana
X-WR-TIMEZONE:Europe/Ljubljana
BEGIN:VEVENT
UID:27@sloventa.si
DTSTART;TZID=Europe/Ljubljana:20260401T000000
DTEND;TZID=Europe/Ljubljana:20260401T000000
DTSTAMP:20260219T073936Z
URL:https://www.sloventa.si/dogodki/vabilo-na-psihoterapevtsko-skupino-equ
 iheard-biti-slisan-v-credi/
SUMMARY:VABILO NA PSIHOTERAPEVTSKO SKUPINO: EQUIHEARD - biti slišan v ČRE
 DI
DESCRIPTION:Zavod EQUINESS in psihoterapevtska praksa ZAŽIVETI vabita na p
 rogram EQUIHEARD.\n\n"Horses can see the real you. Beeing seen is incredib
 ly healing." - Meg Kirby\n\nMarsikdo izmed nas ima izkušnjo\, ko so ga v 
 otroštvu in kadarkoli kasneje v življenju ravno živali in narava najbol
 j ljubeče podprle\, pomagale pri soočanju s čustvenimi in drugimi stisk
 ami. Ljudje smo socialna bitja in za svoje (psihološko) preživetje potre
 bujemo odnose. V sedanjem času kot odrasli morda iščemo svoje pleme\, 
 čredo somislečih in sočutečih ljudi ter živali. Želimo si biti sliš
 ani\, iščemo varno zavetje\, da se lahko izrazimo in zase najbolj kvalit
 etno poskrbimo.\n\nZavod EQUINESS (www.equiness.eu) in psihoterapevtska pr
 aksa ZAŽIVETI (www.zaziveti.si) že drugo leto odpirata program EQUIHEARD
  - "povežimo se v človeško čredo\, prisluhnimo modrosti konjskega in d
 rugega naravnega sveta ter kot medsebojno podprta skupnost\, v kateri je v
 sak glas slišan\, zaživimo."\n\nEQUIHEARD je terapevtsko podporni 7-mese
 čni program\, ki bo potekal med aprilom in oktobrom 2026\, oblikovan v re
 dnih zaprtih skupinskih srečanjih z največ 10 člani.\n\nProgram EQUIHEA
 RD temelji na eko-terapevtskem pristopu\, ki prepoznava naravo kot aktivno
  sooblikovalko terapevtskega procesa. Stik z naravnim okoljem\, živalmi i
 n naravnimi ritmi podpira regulacijo živčnega sistema\, poglablja zaveda
 nje in omogoča bolj pristen stik s sabo ter z drugimi. V majhni zaprti s
 kupini bomo skozi delo s konji\, somatske vaje\, skupinski proces in ustva
 rjalne prakse v naravi raziskovali notranje dinamike\, delovanje\, strahov
 e\, prepričanja\, želje in potrebe.Konji v tem procesu niso orodje\, tem
 več učitelji odnosa. S svojo občutljivostjo in prisotnostjo nam zrcalij
 o naše notranje stanje ter nas podpirajo pri bolj avtentičnem\, uteleš
 enem načinu bivanja. Program poteka v varnem terapevtskem okviru\, ki o
 mogoča globino\, a tudi dovolj prostora\, da vsak proces poteka v lastnem
  ritmu.\n\nSrečanja bodo potekala na ranču BELI-prostor življenja na Ju
 gorju pri Metliki v varnem zavetju Gorjancev. Poseben del procesa je 3-dne
 vni retreat v indijanski vasici\, kjer se občutek črede in plemena še p
 oglobi.\n\nSkupino soustvarjava in vodiva Anja Ibrčič\, mag.psih.\, spec
 ializantka integrativne transakcijsko analitične psihoterapije (Zaživeti
 \, Inštitut Zajčja luknja) in Sara Grahelj\, edukantka geštalt izkustve
 ne družinske terapije in magistrica znanosti o živalih (Zavod Equiness).
 \nNajin cilj je integracija znanstvenih in duhovnih elementov.\n\nVtis ude
 leženke lanske skupine:\n"Del črede sta tudi Sara in Anja\, obe z iskren
 o namero\, da se vsak izmed nas počuti slišanega in sprejetega. Ki sta z
 nali postavljati prava vprašanja in voditi tudi takrat\, ko je bilo težk
 o. Držati prostor\, usmerjati in vedno znova nas postaviti pred prave izz
 ive in naloge – kot da bi vedeli\, kaj potrebujemo. To ni samo še en pr
 ogram\, skozi katerega greš in potem pozabiš nanj. To je program\, ki ti
  ostane – zaradi ljudi\, zaradi zgodbe\, zaradi magičnega prostora in z
 ares magičnih živali\, ki dajejo več kot bi človek lahko z besedami."\
 n\nVabiva vse\, ki jih zgodba pokliče. Zlasti tiste\, ki ste se že od ne
 kdaj lahko povezali z naravo in živalmi kot zaveznicami. In vsekakor tist
 e\, ki bi želeli ta odnos končno stkati in iščete pogum ter varne pogo
 je za to.\nHvaležni bova\, če vabilo podelite med ljudi\, ki jih zanima 
 osebnostna rast s podporo živali\, narave ter skupnosti - človeške čre
 de.\n\nVeč samem programu najdete na spodnji povezavi:\nhttps://www.equin
 ess.eu/equiheard\nZa dodatne informacije ter prijavo naju kontaktirajte na
 :\ninfo@zaziveti.si ali equiness.eu@gmail.com\n\nAnja Ibrčič (Zaživet
 i\, Zajčja luknja) in Sara Grahelj (Equiness)
ATTACH;FMTTYPE=image/jpeg:https://www.sloventa.si/wp-content/uploads/2026/
 02/VABILO_Equiheard-biti-slisan-v-credi_2026.jpg
CATEGORIES:Delavnice
END:VEVENT
BEGIN:VTIMEZONE
TZID:Europe/Ljubljana
X-LIC-LOCATION:Europe/Ljubljana
BEGIN:DAYLIGHT
DTSTART:20260329T030000
TZOFFSETFROM:+0100
TZOFFSETTO:+0200
TZNAME:CEST
END:DAYLIGHT
END:VTIMEZONE
END:VCALENDAR